Workbook
Name DATA: #REF!
Name DATA: #REF!
Name DATA: #REF!
Name DATA: #REF!
Name DATA: #REF!
Name DATA: #REF!

Sheet 2-1 確認表
D1: （別添２－１）
C3: 令和 年 月 日
B4: 商号又は名称：
B5: 担当者氏名：
B6: 電話番号：
B7: FAX番号：
A9: 申請書等提出確認表
A11: １ 入札名称
B12: 軽自動車の売買契約に係る一般競争入札
B13: （品名･数量：軽自動車２台 要求部署：沖縄県宮古農林水産振興センター）
A14: ２ 確認表
B15: 提出書類 | C15: 備考 | D15: 確認 欄
A16: ア | B16: 申請書等提出確認表 （別添２－１） | C16: この書類
A17: イ | B17: 一般競争入札参加資格確認申請書 （別添２－２）
A18: ウ | B18: 登記事項証明書の写し （履歴事項全部証明書） | C18: ※法人のみ ※法務局で３ヶ月以内に 発行されたもの
A19: エ | B19: 入札保証金納付発行依頼書 （別添２－３） | C19: 入札保証金の納付を免除できる実績等がある場合は、この様式ではなく、オ「免除申請書」を提出すること
A20: オ | B20: 入札保証金免除申請書、 同種・同規模契約の履行実績 （別添２－４） | C20: 過去の実績等、必要な書類も合わせて提出すること
A21: カ | B21: 確約書 （別添２－５） | C21: 内容を熟読し、十分に確認したうえで記入すること。
A22: キ | B22: 車両の機能等証明書 （別添２－６）
A23: ク | B23: 返信用封筒 （入札参加資格確認結果通知用） ※長形３号 ※110円切手貼付 | C23: 資格の確認後、その結果を郵送します。 ※貴社の所在地・宛名人 等も記載すること

Sheet 2-2 資格申請書
D1: （別添２－２）
D3: 令和 年 月 日
A6: 一般競争入札参加資格確認申請書
B9: 沖縄県宮古農林水産振興センター所長 殿
B11: 所 在 地
B13: 商号又は 名称
B14: 代表者＿ 職・氏名 | E14: ㊞
B17: 下記入札への参加を申請します。
A19: 記
B20: 入札名称： | C20: ='2-1 確認表'!$B$12 -> 軽自動車の売買契約に係る一般競争入札
C21: ='2-1 確認表'!$B$13 -> （品名･数量：軽自動車２台 要求部署：沖縄県宮古農林水産振興センター）
B22: 沖縄県競争入札参加資格者名簿に 登録している業種 | D22: 24 車両類
B23: 会社更生法（平成14年法律第154号）に 基づく更生手続き開始の申立ての有無 ※申請日時点 | D23: 有 ・ 無
B24: 沖縄県における入札参加の指名停止 または指名除外の措置 | D24: 措置期間中である ・ 措置期間中ではない
B25: 当該入札に参加予定の他者との資本的または人的な関係 | D25: 有 ・ 無
B26: 入札保証金（※） | D26: 納付 ・ 免除申請
B27: 沖縄県内事業所の有無 | D27: 有 ・ 無
B28: 入札物品（車両） | C28: 名称
C29: 型式
A30: ※ 入札保証金を納付申請する場合は納付書発行依頼書（別添２－３）を、免除を申請する場合は 免除申請書（別添２－４）を提出すること。
A31: ※ 入札物品が、入札条件書の各項目を満たしていることがわかる資料（カタログの写し等）も 提出すること。カタログの該当ページには付箋を貼り付けた上で、該当箇所に色付けをしてください。

Sheet 2-3 保証金納付
M1: （別添２－３）
A2: （第３号様式）
I4: 令和 年 月 日
A6: 入札保証金納付書発行依頼書
A9: 沖縄県宮古農林水産振興センタ－ 殿
D11: 所 在 地 | F11: 〒
D14: (ｶﾅ)
D15: 商号 又は名称
D16: (ｶﾅ)
D17: 代 表 者 職・氏名 | M17: ㊞
D18: 電話番号
A21: 下記にかかる入札保証金を納付するため、納付書の発行をお願いします。
A23: 記
B25: 入 札 名 称 | E25: ='2-1 確認表'!$B$12 -> 軽自動車の売買契約に係る一般競争入札
E26: ='2-5 確約書'!H20 -> （品名･数量：軽自動車２台 要求部署：沖縄県宮古農林水産振興センター）
B27: 入 札 日 | E27: ='2-5 確約書'!H21 -> 令和８年11月 日
B28: 入札保証金の額 | E28: ￥
B30: （注１） | C30: 入札保証金の額は、見積もる契約金額（税込）の１００分の５以上を納付すること。
B31: （注２） | C31: 入札保証金が不足した場合、入札が無効となるので注意すること。

Sheet (説明資料)入札保証金の手続き 
A1: （参考）
A2: 入札保証金の手続きの流れ
A4: 入札保証金 ・・・ | D4: 入札者が落札した場合において、契約を締結すべき義務の履行を担保するために納付させるもの。 なお、落札者が契約を締結しないときは、その入札保証金は県に帰属する。
J9: ①
E10: ③ | J10: ②
J11: ④
J12: ⑤
I14: ⑥
A17: ① | B17: 払込書の発行依頼（事業者 → 県）
B18: 入札に必要となる保証金の額（見積る契約金額(税込)の5/100以上）を決めてください。
B19: 「納付書発行依頼書」を作成し、県（宮古農林水産振興センター スタッフ室）に提出してください。
B20: ※提出期限：令和８年11月10日（ 火 ）午後４時必着
A22: ② | B22: 払込書の発行（県 → 事業者）
B23: 入札参加資格の確認結果通知後に保証金の「払込書」を発行します。発行後、事業者に連絡します
B24: ので受取をお願いします。
A26: ③ | B26: 保証金の払い込み（事業者 → 金融機関）
B27: 金融機関の窓口で「払込書」により保証金を納めてください。
B28: 納付の際に受け取った「受領書」の写しを下記の提出期限までに県(宮古農林水産振興センター)
B29: あてＦＡＸにて提出してください（故障等ＦＡＸで提出できない場合はメール提出可）。
B30: （宮古農林水産振興センター スタッフ室 ＦＡＸ:0980-72-1313
B31: メール（代表）：aa049200@pref.okinawa.lg.jp）
B32: ※提出期限：令和８年11月17日（火）午後４時必着
A34: ④ | B34: 入札への参加（事業者 → 県）
A36: ⑤ | B36: 保証金の還付請求（事業者 → 県）
B37: 落札業者以外の場合は、開札結果の通知を受けた後、速やかに「還付請求書」を
B38: 宮古農林水産振興センター スタッフ室に提出してください。
B39: 落札業者の場合は、契約締結にあたり、契約保証金を納付してから、「還付請求書」を
B40: 宮古農林水産振興センターに提出してください。確認のため、契約保証金の受領書の写しも提出して下さい。
A42: ⑥ | B42: 保証金の払い戻し（県 → 金融機関(事業者の口座)）
B43: 預かった入札保証金を、貴社の口座にお返しします。（請求書の受理日から約２週間後）
A45: ※ | B45: 入札保証金の不還付
B46: 落札者が契約を締結しないときは、その入札保証金は沖縄県に帰属するものとする。

Sheet 2-4 保証金免除申請
M1: （別添２－４）
A2: （第４号様式）
I4: 令和 年 月 日
A6: 入札保証金免除申請書
A9: 沖縄県知事 殿
E11: 所 在 地
E13: 商 号 又は名称
E14: 代 表 者 職・氏名 | M14: ㊞
A18: 下記の入札について、沖縄県財務規則第100条第２項の規定に基づき、関係書類を添えて、入札保証金の免除を申請します。
A20: 記
B22: ='2-1 確認表'!$A$11 -> １ 入札名称 | E22: ='2-1 確認表'!$B$12 -> 軽自動車の売買契約に係る一般競争入札
E23: ='2-1 確認表'!$B$13 -> （品名･数量：軽自動車２台 要求部署：沖縄県宮古農林水産振興センター）
B25: ２ 免除申請の理由（以下の□に☑印を付けてください。）
B27: □ | C27: 保険会社との間に、沖縄県を被保険者とする入札保証保険契約を締結しているため。
D28: 必要書類：保険証券
B30: □ | C30: 国(独立行政法人、公社及び公団を含む。)又は地方公共団体と、種類及び規模をほぼ同じくする契約を締結した実績を有し、これらのうち過去２箇年の間に履行期限が到来した２件以上の契約を、全て誠実に履行したため。
D31: 必要書類：
D32: ①同種・同規模契約の履行実績（第４号様式（その２））
D33: ②契約書の写し
D34: （契約相手、契約内容、金額、履行期限、双方の捺印が確認できるページのみ）
D35: ③納品書（控え）の写し等、契約履行が確認できる書類
A37: （第４号様式（その２））
A39: 同種・同規模契約の履行実績
A41: 契約名称
A42: 契約の相手方
A43: 契約金額
A44: 納入年月日
A45: 仕様・数量
A47: 契約名称
A48: 契約の相手方
A49: 契約金額
A50: =A$44 -> 納入年月日
A51: 仕様・数量
A53: 契約名称
A54: 契約の相手方
A55: 契約金額
A56: =A$44 -> 納入年月日
A57: 仕様・数量
A59: 契約名称
A60: 契約の相手方
...

Sheet 2-5 確約書
P1: （別添２－５）
A3: 確約書
L5: 令和 年 月 日
A7: 沖縄県宮古農林水産振興センター所長 殿
H9: 商 号 又は名称
H10: 代 表 者 職・氏名 | P10: ㊞
A14: 下記の入札に参加するにあたり、次のとおり確約します。
A16: 記
B18: ='2-1 確認表'!A11 -> １ 入札名称
C19: (1) 件 名 | H19: ='2-1 確認表'!$B$12 -> 軽自動車の売買契約に係る一般競争入札
H20: ='2-1 確認表'!$B$13 -> （品名･数量：軽自動車２台 要求部署：沖縄県宮古農林水産振興センター）
C21: (2) 入札予定日 | H21: 令和８年11月 日
B23: ２ 確約事項
C24: (1) | E24: 一般競争入札参加資格確認申請書及び添付書類の記載事項は、事実と相違ありません。
C25: (2) | E25: 労働基準法、最低賃金法等の労働関係法令を遵守します。
C26: (3) | E26: 入札にあたっては、私的独占の禁止及び公正取引の確保に関する法律等に抵触する行為を行いません。
C27: (4) | E27: 入札にあたっては、競争を制限する目的で他の入札参加者と入札価格又は入札意思についていかなる相談も行わず、独自に入札価格を定めます。
C28: (5) | E28: 落札者の決定前に、他の入札参加者に対して入札価格を開示しません。
C29: (6) | E29: 暴力団員による不当な行為の防止等に関する法律（平成３年法律第77号）第２条第２号に規定する暴力団、同条第６号に掲げる暴力団員及び、それらの利益となる活動を行う者には該当しません。
A31: なお、上記の確約事項に反する場合、契約の解除等、貴県が行う一切の措置について異議を申し立てません。

Sheet 2-6車両の性能等証明書
F1: 別添２－６
B2: 車両の性能等証明書
E4: 令和 年 月 日
B6: 沖縄県宮古農林水産振興センター所長 殿
C8: 商号又は名称
C9: 代表者職・氏名 | F9: ㊞
A11: 軽自動車２台の売買契約に係る入札に関し、下記のとおり要求仕様にある性能を満たすことを証明します。
A12: なお、機能等証明書に示した以外の項目であっても、要求仕様と同等以上の性能を有することを証明します。
B14: 記
A15: １ 納入しようとする自動車
B16: メーカー | C16: 車名 | D16: 型式
A19: ２ 機能、性能等
B20: 要求仕様 | E20: ○ ・× | F20: カタログの 頁番号
B21: 乗車定員 | C21: ４人 | G21: ○
B22: 排気量・駆動方式等 | C22: 658cc、４ＡＴ（CVTも可）、２ＷＤ、ガソリン車 | G22: ×
B23: 燃費基準 | C23: 平成27年度以降の燃費基準達成車
B24: 排出ガス | C24: 平成17年以降の排出ガス規制認定車
B25: 車体の色 | C25: シルバー
B26: 付属品等 | C26: パワーステアリング
C27: ABS
C28: パワードアロック
C29: 前席全面エアバック
C30: エアコン
C31: AM/FMラジオ
C32: フロアマット
C33: ドアバイザー
C34: 防錆処理（アンダーコート）
C35: ETC
C36: ETCセットアップ料
C37: パワーウィンドウ（前席【運転席・助手席】のみでも可）
C38: サイドミラー調整（電動）
... C40: ナビゲーションシステム（モニターTV無し）
B41: ※納入しようとする自動車が要求仕様を満たしている場合は、該当欄に「○」を記載してください。
B42: （要求仕様を満たしていない場合は入札参加できません。）
B43: ※納入しようとする自動車のカタログ等を添付し、該当する仕様が確認できるページを右欄に記載してください。
B44: また、カタログの該当ページには付箋を貼り付けた上で、該当箇所に色付けをしてください。

Sheet 2-6車両の性能等証明書 (記入例)
F1: 別添２－６
B2: 車両の性能等証明書
F4: 令和 ８年 ○月 ○日
B6: 沖縄県宮古農林水産振興センター所長 殿
C8: 商号又は名称 | D8: ○○会社 ○○○○
C9: 代表者職・氏名 | D9: 代表取締役 ○○○○○○ | F9: ㊞
A11: ='2-6車両の性能等証明書'!A11 -> 軽自動車２台の売買契約に係る入札に関し、下記のとおり要求仕様にある性能を満たすことを証明します。
A12: ='2-6車両の性能等証明書'!A12 -> なお、機能等証明書に示した以外の項目であっても、要求仕様と同等以上の性能を有することを証明します。
B14: 記
A15: １ 納入しようとする自動車
B16: メーカー | C16: 車名 | D16: 型式
B17: 〇〇○〇○ | C17: □□□□□□ | D17: △△△△△△
A19: ２ 機能、性能等
B20: 要求仕様 | E20: ○ ・× | F20: カタログの 頁番号
B21: 乗車定員 | C21: ='2-6車両の性能等証明書'!C21 -> ４人 | E21: ○ | F21: 〇頁
B22: 排気量・駆動方式等 | C22: ='2-6車両の性能等証明書'!C22 -> 658cc、４ＡＴ（CVTも可）、２ＷＤ、ガソリン車 | E22: ○ | F22: 〇頁
B23: 燃費基準 | C23: ='2-6車両の性能等証明書'!C23 -> 平成27年度以降の燃費基準達成車 | E23: ○ | F23: 〇頁
B24: 排出ガス | C24: ='2-6車両の性能等証明書'!C24 -> 平成17年以降の排出ガス規制認定車 | E24: ○ | F24: 〇頁
B25: 車体の色 | C25: ='2-6車両の性能等証明書'!C25 -> シルバー | E25: ○ | F25: 〇頁
B26: 付属品等 | C26: ='2-6車両の性能等証明書'!C26 -> パワーステアリング | E26: ○ | F26: 〇頁
C27: ='2-6車両の性能等証明書'!C27 -> ABS | E27: ○ | F27: 〇頁
C28: ='2-6車両の性能等証明書'!C28 -> パワードアロック | E28: ○ | F28: 〇頁
C29: ='2-6車両の性能等証明書'!C29 -> 前席全面エアバック | E29: ○ | F29: 〇頁
C30: ='2-6車両の性能等証明書'!C30 -> エアコン | E30: ○ | F30: 〇頁
C31: ='2-6車両の性能等証明書'!C31 -> AM/FMラジオ | E31: ○ | F31: 〇頁
C32: ='2-6車両の性能等証明書'!C32 -> フロアマット | E32: ○ | F32: 〇頁
C33: ='2-6車両の性能等証明書'!C33 -> ドアバイザー | E33: ○ | F33: 〇頁
C34: ='2-6車両の性能等証明書'!C34 -> 防錆処理（アンダーコート） | E34: ○ | F34: 外注
C35: ='2-6車両の性能等証明書'!C35 -> ETC | E35: ○ | F35: 〇頁
C36: ='2-6車両の性能等証明書'!C36 -> ETCセットアップ料 | E36: ○ | F36: 外注
C37: ='2-6車両の性能等証明書'!C37 -> パワーウィンドウ（前席【運転席・助手席】のみでも可） | E37: ○ | F37: 〇頁
C38: ='2-6車両の性能等証明書'!C38 -> サイドミラー調整（電動） | E38: ○ | F38: 〇頁
... C40: ='2-6車両の性能等証明書'!C40 -> ナビゲーションシステム（モニターTV無し） | E40: ○ | F40: 別添資料
B41: ※納入しようとする自動車が要求仕様を満たしている場合は、該当欄に「○」を記載してください。
B42: （要求仕様を満たしていない場合は入札参加できません。）
B43: ※納入しようとする自動車のカタログ等を添付し、該当する仕様が確認できるページを右欄に記載してください。
B44: また、カタログの該当ページには付箋を貼り付けた上で、該当箇所に色付けをしてください。

Sheet (参考)入札後に保証金の還付を請求
A1: 入札保証金還付請求書
A5: ='2-1 確認表'!$A$11 -> １ 入札名称 | E5: ='2-3 保証金納付'!E25 -> 軽自動車の売買契約に係る一般競争入札
E6: ='2-3 保証金納付'!E26 -> （品名･数量：軽自動車２台 要求部署：沖縄県宮古農林水産振興センター）
A8: ２ 入 札 日 | E8: ='2-3 保証金納付'!E27 -> 令和８年11月 日
A10: ３ 請求金額 | E10: 金 | F10: ='2-3 保証金納付'!F28 -> 0 | I10: 円
A12: 上記のとおり、入札保証金の還付を請求します。
B14: 令和 年 月 日
E16: ='2-4 保証金免除申請'!$E$11 -> 所 在 地
E18: ='2-4 保証金免除申請'!$E$13 -> 商 号 又は名称
E19: ='2-4 保証金免除申請'!$E$14 -> 代 表 者 職・氏名 | M19: ㊞
A21: 沖縄県宮古農林水産振興センター所長 殿
B24: （口座振込先）
B25: 金融機関名
B26: 支 店 名
B27: 預金種類 | E27: 普通 ・ 当座
B28: 口座番号
B29: 口座名義
