Workbook

Sheet 目次
G7: ※ 自動反映されるセルは、入力を補助するために設定しています。数値を直接入力（上書き）していただいても
G8: 問題ありません。
G9: ※ 記入例に記載されている数値等は、あくまで入力イメージを示すための例示です。
G10: 実際の数値等とは大きく異なる場合がありますので御了承ください。
G11: 様式集
J12: シート名 | K12: 内容 | M12: 備考
I13: =HYPERLINK("#"&"'"&J13&"'"&"!A1","〇") -> 〇 | J13: 目次
H14: 【資格登録】登録に関して
I15: =HYPERLINK("#"&"'"&J15&"'"&"!A1","〇") -> 〇 | J15: 00-01 | K15: {=IFERROR((INDIRECT("’"&$J15&"’！$G$10")),"")} -> 一般競争入札参加資格登録申請書提出に係るチェックシート | L15: 0
I16: =HYPERLINK("#"&"'"&J16&"'"&"!A1","〇") -> 〇 | J16: 01 | K16: {=IFERROR((INDIRECT("’"&$J16&"’！$G$10")),"")} -> 競争入札参加資格登録申請書 | L16: 第１号
I17: =HYPERLINK("#"&"'"&J17&"'"&"!A1","〇") -> 〇 | J17: 02 | K17: {=IFERROR((INDIRECT("’"&$J17&"’！$G$10")),"")} -> 契約実績書 | L17: 第２号
I18: =HYPERLINK("#"&"'"&J18&"'"&"!A1","〇") -> 〇 | J18: 03 | K18: {=IFERROR((INDIRECT("’"&$J18&"’！$G$10")),"")} -> 宣誓書 | L18: 第３号
I19: =HYPERLINK("#"&"'"&J19&"'"&"!A1","〇") -> 〇 | J19: 04 | K19: {=IFERROR((INDIRECT("’"&$J19&"’！$G$10")),"")} -> 社会保険等加入状況報告書 | L19: 第４号
H21: 【資格登録】登録事項の変更に関して
I22: =HYPERLINK("#"&"'"&J22&"'"&"!A1","〇") -> 〇 | J22: 00-02 | K22: 競争入札参加資格登録申請書 提出に係るチェックシート | L22: 0 | M22: 競争入札参加資格登録申請書 提出後に変更が生じた場合に提出
I23: =HYPERLINK("#"&"'"&J23&"'"&"!A1","〇") -> 〇 | J23: 05 | K23: {=IFERROR((INDIRECT("’"&$J23&"’！$G$10")),"")} -> 資格申請事項変更届 | L23: 第５号 | M23: 競争入札参加資格登録申請書 提出後に変更が生じた場合に提出
H25: 【入札参加】入札の参加に関して
I26: =HYPERLINK("#"&"'"&J26&"'"&"!A1","〇") -> 〇 | J26: 00-03 | K26: 一般競争入札参加申込書提出に係るチェックシート | L26: 0
I27: =HYPERLINK("#"&"'"&J27&"'"&"!A1","〇") -> 〇 | J27: 06 | K27: {=IFERROR((INDIRECT("’"&$J27&"’！$G$10")),"")} -> 一般競争入札参加申込書 | L27: 第６号
I28: =HYPERLINK("#"&"'"&J28&"'"&"!A1","〇") -> 〇 | J28: 07 | K28: {=IFERROR((INDIRECT("’"&$J28&"’！$G$10")),"")} -> 債務者登録票 | L28: 第７号 | M28: 入札保証金免除の場合は不要
I29: =HYPERLINK("#"&"'"&J29&"'"&"!A1","〇") -> 〇 | J29: 08 | K29: {=IFERROR((INDIRECT("’"&$J29&"’！$G$10")),"")} -> 入札保証金納付書発行依頼書 | L29: 第８号 | M29: 入札保証金免除の場合は不要
I30: =HYPERLINK("#"&"'"&J30&"'"&"!A1","〇") -> 〇 | J30: 09 | K30: {=IFERROR((INDIRECT("’"&$J30&"’！$G$10")),"")} -> 入札保証金返還請求書 | L30: 第９号 | M30: 入札保証金免除の場合は不要
I31: =HYPERLINK("#"&"'"&J31&"'"&"!A1","〇") -> 〇 | J31: 10-01 | K31: {=IFERROR((INDIRECT("’"&$J31&"’！$G$10")),"")} -> 機能等証明書 | L31: 第10－１号
I32: =HYPERLINK("#"&"'"&J32&"'"&"!A1","〇") -> 〇 | J32: 10-02 | K32: 機能等証明書別紙 | L32: 第10－２号
I33: =HYPERLINK("#"&"'"&J33&"'"&"!A1","〇") -> 〇 | J33: 11 | K33: {=IFERROR((INDIRECT("’"&$J33&"’！$G$10")),"")} -> 機器等搬入・調整業務及び障害対応業務体制証明書 | L33: 第11号
I34: =HYPERLINK("#"&"'"&J34&"'"&"!A1","〇") -> 〇 | J34: 12 | K34: {=IFERROR((INDIRECT("’"&$J34&"’！$G$10")),"")} -> 入札書（工事を除く） | L34: 第12号
I35: =HYPERLINK("#"&"'"&J35&"'"&"!A1","〇") -> 〇 | J35: 13 | K35: {=IFERROR((INDIRECT("’"&$J35&"’！$G$10")),"")} -> 委任状 | L35: 第13号
I36: =HYPERLINK("#"&"'"&J36&"'"&"!A1","〇") -> 〇 | J36: 14 | K36: {=IFERROR((INDIRECT("’"&$J36&"’！$G$10")),"")} -> 質問書 | L36: 第14号 | M36: 質問がある場合に提出
H38: その他
I39: =HYPERLINK("#"&"'"&J39&"'"&"!A1","〇") -> 〇 | J39: 15-01 | K39: 封筒貼付用シート | L39: 0 | M39: 必須ではありません。 必要に応じてご活用ください。
I40: =HYPERLINK("#"&"'"&J40&"'"&"!A1","〇") -> 〇 | J40: 15-01 | K40: 封筒貼付用シート | L40: 0 | M40: 必須ではありません。 必要に応じてご活用ください。

Sheet 00-01
BF5: 記入例
AI8: 登録番号 | AN8: ※ | CI8: 登録番号 | CN8: ※
G10: 一般競争入札参加資格登録申請書提出に係るチェックシート | BG10: チェックシート
AL12: 令和 年 月 日 | CL12: 令和 ○年 ○月 ○日
R16: 申請者 | T16: 郵便番号 | BR16: 申請者 | BT16: 郵便番号 | CB16: 000-0000
T17: 所在地 | BT17: 所在地 | CB17: 沖縄県○○市○○○ ○丁目○番地○号
CB18: ○○ビル ○階
T19: (ﾌﾘｶﾞﾅ) | BT19: (ﾌﾘｶﾞﾅ) | CB19: マルマルカブシキガイシャ
T20: 商号又は名称 | BT20: 商号又は名称 | CB20: ○○株式会社
T21: (ﾌﾘｶﾞﾅ) | BT21: (ﾌﾘｶﾞﾅ) | CB21: マルサンカク マルマル
T22: 代表者職・氏名 | BT22: 代表者職・氏名 | CB22: ○△ ○○
T23: 電話番号 | BT23: 電話番号 | CB23: 000-0000-0000
T24: ＦＡＸ番号 | BT24: ＦＡＸ番号 | CB24: 000-0000-0001
T25: メールアドレス | BT25: メールアドレス | CB25: abca@aaaaaaaaaaa.jp
R27: （担当者） | T27: 郵便番号 | AB27: =AB16&"" | BR27: 申請者 | BT27: 郵便番号 | CB27: 000-0000
T28: 所在地 | AB28: =AB17&"" | BT28: 所在地 | CB28: 沖縄県○○市○○○ ○丁目○番地○号
AB29: =AB18&"" | CB29: ○○ビル ○階
T30: 商号又は名称 | AB30: =AB20&"" | BT30: 商号又は名称 | CB30: ○○株式会社
T31: 所属部署等 | BR31: （担当者） | BT31: 所属部署等 | CB31: ○○部○○課
T32: (ﾌﾘｶﾞﾅ) | BT32: (ﾌﾘｶﾞﾅ) | CB32: マルサンカク マルマル
T33: 氏名 | BT33: 氏名 | CB33: ○△ □□
T34: 電話番号 | AB34: =AB23&"" | BT34: 電話番号 | CB34: =CB23&"" -> 000-0000-0000
T35: ＦＡＸ番号 | AB35: =AB24&"" | BT35: ＦＡＸ番号 | CB35: =CB24&"" -> 000-0000-0001
T36: メールアドレス | BT36: メールアドレス | CB36: eeee@aaaaaaaaaaa.jp
G38: １ 競争入札名 | BG38: １ 競争入札名
H39: 沖縄県立中部Ａ特別支援学校（仮称）における配管に係る機器（厨房機器等）一式の調達に係る入札 | BH39: 沖縄県立中部Ａ特別支援学校（仮称）における配管に係る機器（厨房機器等）一式の調達に係る入札
G41: ２ 営業種目 | BG41: ２ 営業種目
P42: 第１営業種目 （主な営業種目） | AB42: 第２営業種目 （兼業種目） | AN42: 第３営業種目 （兼業種目） | BP42: 第１営業種目 （主な営業種目） | CB42: 第２営業種目 （兼業種目） | CN42: 第３営業種目 （兼業種目）
H43: 種別・種目番号 | BH43: 種別・種目番号
H44: 種目名 | BH44: 種目名 | BP44: 建築工事業 | CB44: 調理業務
AY47: =AB20&"" | CY47: =CB20&"" -> ○○株式会社
H48: ○申請書類にもれがないか再度確認し、このシートも申請書類とあわせて提出ください。 | BH48: ○申請書類にもれがないか再度確認し、このシートも申請書類とあわせて提出ください。
H49: ○提出した書類のチェック欄に○を記入してください。 | BH49: ○提出した書類のチェック欄に○を記入してください。
H50: ※提出書類で判断不可である場合等に記載責任者に連絡してヒアリングを行う場合がある。 | BH50: ※提出書類で判断不可である場合等に記載責任者に連絡してヒアリングを行う場合がある。
H51: ※申請書等の作成にかかる費用は、申請者の負担とする。 | BH51: ※申請書等の作成にかかる費用は、申請者の負担とする。
H52: ※証明書等は写しで差し支えありません。 | BH52: ※証明書等は写しで差し支えありません。
H53: 01～03はこのファイルに含まれる様式等 | BH53: 02～05はこのファイルに含まれる様式等
X54: 様式 | AA54: 確認事項等 | AW54: チェック | BX54: 様式 | CA54: 確認事項等 | CW54: チェック
H55: 01 | J55: チェックシート | BH55: 01 | BJ55: チェックシート | CW55: ○
H56: 02 | J56: 競争入札参加資格登録申請書 | X56: 第１号 | BH56: 02 | BJ56: 競争入札参加資格登録申請書 | BX56: 第１号 | CW56: ○
...

Sheet 01
BF5: 記入例
G7: 第１号様式 | BG7: 第１号様式
AI8: 登録番号 | AN8: ※ | CI8: 登録番号 | CN8: ※
G10: 競争入札参加資格登録申請書 | BG10: 競争入札参加資格登録申請書
AL12: =IF('00-01'!AL12=0,"",'00-01'!AL12) -> 令和 年 月 日 | CL12: =IF('00-01'!CL12=0,"",'00-01'!CL12) -> 令和 ○年 ○月 ○日
G14: 沖縄県知事 殿 | BG14: 沖縄県知事 殿
R16: 申請者 | T16: 郵便番号 | AB16: =IF('00-01'!AB16=0,"",'00-01'!AB16) | BR16: 申請者 | BT16: 郵便番号 | CB16: =IF('00-01'!CB16=0,"",'00-01'!CB16) -> 000-0000
T17: 所在地 | AB17: =IF('00-01'!AB17=0,"",'00-01'!AB17) | BT17: 所在地 | CB17: =IF('00-01'!CB17=0,"",'00-01'!CB17) -> 沖縄県○○市○○○ ○丁目○番地○号
AB18: =IF('00-01'!AB18=0,"",'00-01'!AB18) | CB18: =IF('00-01'!CB18=0,"",'00-01'!CB18) -> ○○ビル ○階
T19: 商号又は名称 | AB19: =IF('00-01'!AB20=0,"",'00-01'!AB20) | BT19: 商号又は名称 | CB19: =IF('00-01'!CB20=0,"",'00-01'!CB20) -> ○○株式会社
T20: (ﾌﾘｶﾞﾅ) | AB20: =IF('00-01'!AB21=0,"",'00-01'!AB21) | BT20: (ﾌﾘｶﾞﾅ) | CB20: =IF('00-01'!CB21=0,"",'00-01'!CB21) -> マルサンカク マルマル
T21: 代表者職・氏名 | AB21: =IF('00-01'!AB22=0,"",'00-01'!AB22) | AX21: 印 | BT21: 代表者職・氏名 | CB21: =IF('00-01'!CB22=0,"",'00-01'!CB22) -> ○△ ○○ | CX21: 印
T22: 電話番号 | AB22: =IF('00-01'!AB23=0,"",'00-01'!AB23) | BT22: 電話番号 | CB22: =IF('00-01'!CB23=0,"",'00-01'!CB23) -> 000-0000-0000
T23: ＦＡＸ番号 | AB23: =IF('00-01'!AB24=0,"",'00-01'!AB24) | BT23: ＦＡＸ番号 | CB23: =IF('00-01'!CB24=0,"",'00-01'!CB24) -> 000-0000-0001
T24: メールアドレス | AB24: =IF('00-01'!AB25=0,"",'00-01'!AB25) | BT24: メールアドレス | CB24: =IF('00-01'!CB25=0,"",'00-01'!CB25) -> abca@aaaaaaaaaaa.jp
G26: 沖縄県が発注する下記の入札に参加したいので、指定の書類を添えて競争入札参加資格の登録を申請します。なお、この申請書及び添付書類の記載事項は、事実と相違ないことを誓約します。 | BG26: 沖縄県が発注する下記の入札に参加したいので、指定の書類を添えて競争入札参加資格の登録を申請します。なお、この申請書及び添付書類の記載事項は、事実と相違ないことを誓約します。
G28: １ 競争入札名 | BG28: １ 競争入札名
H29: =IF('00-01'!H39=0,"",'00-01'!H39) -> 沖縄県立中部Ａ特別支援学校（仮称）における配管に係る機器（厨房機器等）一式の調達に係る入札 | BH29: =IF('00-01'!BH39=0,"",'00-01'!BH39) -> 沖縄県立中部Ａ特別支援学校（仮称）における配管に係る機器（厨房機器等）一式の調達に係る入札
G31: ２ 営業種目 | BG31: ２ 営業種目
P32: 第１営業種目 （主な営業種目） | AB32: 第２営業種目 （兼業種目） | AN32: 第３営業種目 （兼業種目） | BP32: 第１営業種目 （主な営業種目） | CB32: 第２営業種目 （兼業種目） | CN32: 第３営業種目 （兼業種目）
H33: 種別・種目番号 | BH33: 種別・種目番号
H34: 種目名 | P34: =IF('00-01'!P44=0,"",'00-01'!P44) | AB34: =IF('00-01'!AB44=0,"",'00-01'!AB44) | AN34: =IF('00-01'!AN44=0,"",'00-01'!AN44) | BH34: 種目名 | BP34: =IF('00-01'!BP44=0,"",'00-01'!BP44) -> 建築工事業 | CB34: =IF('00-01'!CB44=0,"",'00-01'!CB44) -> 調理業務 | CN34: =IF('00-01'!CN44=0,"",'00-01'!CN44)
G36: ３ 登録する支店・営業所等（上記申請者以外） | BG36: ３ 登録する支店・営業所等（上記申請者以外）
H37: 事業所 の名称 | O37: 支店長等 の氏名 | X37: 所在地 | AN37: 電話・FAX番号 ・ﾒｰﾙｱﾄﾞﾚｽ | BH37: 事業所 の名称 | BO37: 支店長等 の氏名 | BX37: 所在地 | CN37: 電話・FAX番号 ・ﾒｰﾙｱﾄﾞﾚｽ
BH38: □□支店 | BO38: □□ △△ | BX38: 沖縄県□□町△△ ○丁目 ○番地 ○○号 | CN38: 000-0000-0002
CN39: 000-0000-0003
CN40: ab00@aaaaaaaaaaa.jp
BH41: △△支店 | BO41: △△ ○○ | BX41: 沖縄県△○村△△ ○丁目 ○番地 ○○号 | CN41: 000-0000-0004
CN42: 000-0000-0005
CN43: ab02@aaaaaaaaaaa.jp
AY58: =AB19&"" | CY58: =CB19&"" -> ○○株式会社
G59: ４ 自己資本額 | AE59: ５ 営業の沿革 | BB59: 営業年数の計算式 | BG59: ４ 自己資本額 | CE59: ５ 営業の沿革 | DB59: 営業年数の計算式
Y60: (千円) | AF60: 創業年月日 | AL60: =IF(BB61=""," 年 月 日",TEXT(BB61,"ggg")&IF(LEN(TEXT(BB61,"e"))=1,DBCS(TEXT(BB61,"e")),TEXT(BB61,"e"))&"年"&IF(LEN(MONTH(BB61))=1,DBCS(MONTH(BB61)),MONTH(BB61))&"月"&IF(LEN(DAY(BB61))=1,DBCS(DAY(BB61)),DAY(BB61))&"日") -> 年 月 日 | BB60: 創業年月日 | BC60: 申請年月日 | BD60: 年数 | BH60: 10000 | BY60: (千円) | CF60: 創業年月日 | CL60: =IF(DB61=""," 年 月 日",TEXT(DB61,"ggg")&IF(LEN(TEXT(DB61,"e"))=1,DBCS(TEXT(DB61,"e")),TEXT(DB61,"e"))&"年"&IF(LEN(MONTH(DB61))=1,DBCS(MONTH(DB61)),MONTH(DB61))&"月"&IF(LEN(DAY(DB61))=1,DBCS(DAY(DB61)),DAY(DB61))&"日") -> 平成28年４月１日 | DB60: 創業年月日 | DC60: 申請年月日 | DD60: 年数
AF61: 営業年数 | AL61: =BD61 -> 0 | AV61: 年 | BD61: =DATEDIF(BB61,BC61,"Y") -> 0 | CF61: 営業年数 | CL61: =DD61 -> 10 | CV61: 年 | DB61: 42461 | DC61: 46238 | DD61: =DATEDIF(DB61,DC61,"Y") -> 10
G63: ６ 経営比率（流動比率） ※小数第２位以下は切り捨てる。 | BG63: ６ 経営比率（流動比率） ※小数第２位以下は切り捨てる。
BB64: 経営比率（流動比率）の計算 | DB64: 経営比率（流動比率）の計算
I65: 流動資産 | Y65: (千円) | AE65: × 100 ＝ | AK65: =BB65 | AP65: ％ | BB65: =IFERROR(ROUNDDOWN(N65*100/N66,1),"") | BI65: 流動資産 | BN65: 1000 | BY65: (千円) | CE65: × 100 ＝ | CK65: =DB65 -> 1 | CP65: ％ | DB65: =IFERROR(ROUNDDOWN(BN65*100/BN66,1),"") -> 1
I66: 流動負債 | Y66: (千円) | BI66: 流動負債 | BN66: 100000 | BY66: (千円)
G69: ７ 営業実績（直近の決算期間） | AE69: ８ 総従業員数 | BG69: ７ 営業実績（直近の決算期間） | CE69: ８ 総従業員数
H70: 販売先 | N70: 販売額 | Y70: (千円) | AF70: 区分 | AL70: 人数 | BH70: 販売先 | BN70: 販売額 | BY70: (千円) | CF70: 区分 | CL70: 人数
...

Sheet 02
BF4: 記入例
G7: 第２号様式 | BG7: 第２号様式
G10: 契約実績書 | BG10: 契 約 実 績 書
G12: 沖縄県知事 殿 | BG12: 沖縄県知事 殿
G14: 入札説明書９⑵及び入札保証金説明書３⑵に該当する過去２年間の契約実績は下記のとおりです。 | BG14: 入札説明書９⑵及び入札保証金説明書３⑵に該当する過去２年間の契約実績は下記のとおりです。
M15: （円） | BM15: （円）
G16: 発注者 | H16: 件名 | J16: 金額(税込) | K16: 着手年月日 | L16: 完了年月日 | BG16: 発注者 | BH16: 件名 | BJ16: 金額(税込) | BK16: 着手年月日 | BL16: 完了年月日
BG17: △△県○○市 | BH17: ～備品一式 | BJ17: 200 | BK17: 44652 | BL17: 45016
BG18: ○○県 | BH18: ○○一式 | BJ18: 3000 | BK18: 45748 | BL18: 46112
G26: ※契約書の写し及び契約を履行したことを証明する書類を添付してください | BG26: ※契約書の写し及び契約を履行したことを証明する書類を添付してください
K28: =IF('00-01'!AL12=0,"",'00-01'!AL12) -> 令和 年 月 日 | BK28: =IF('00-01'!CL12=0,"",'00-01'!CL12) -> 令和 ○年 ○月 ○日
H30: 住所 | J30: =IF('00-01'!AB17=0,"",'00-01'!AB17) | BH30: 住所 | BJ30: =IF('00-01'!CB17=0,"",'00-01'!CB17) -> 沖縄県○○市○○○ ○丁目○番地○号
J31: =IF('00-01'!AB18=0,"",'00-01'!AB18) | BJ31: =IF('00-01'!CB18=0,"",'00-01'!CB18) -> ○○ビル ○階
H32: 商号又は名称 | J32: =IF('00-01'!AB20=0,"",'00-01'!AB20) | BH32: 商号又は名称 | BJ32: =IF('00-01'!CB20=0,"",'00-01'!CB20) -> ○○株式会社
H33: 代表者職・氏名 | J33: =IF('00-01'!AB22=0,"",'00-01'!AB22) | M33: 印 | BH33: 代表者職・氏名 | BJ33: =IF('00-01'!CB22=0,"",'00-01'!CB22) -> ○△ ○○ | BM33: 印

Sheet 03
BF5: 記入例
G7: 第３号様式 | BG7: 第３号様式
AI8: 登録番号 | AN8: ※ | CI8: 登録番号 | CN8: ※
G10: 宣誓書 | BG10: 宣誓書
H12: 下記の事項について誓約します。（※１） また、貴県から求めがあれば、役員等の名簿（生年月日、性別、住所を含む。）を提出し、下記の事項について、各都道府県警察本部に照会することを承諾し、照会で確認された情報を、今後、私が貴県と行う契約等における身分確認に利用することに同意します。 なお、これらの事項に反した場合、競争入札参加資格の取消、契約の解除等、貴県が行う一切の措置について異議を申し立てません。 | BH12: 下記の事項について誓約します。（※１） また、貴県から求めがあれば、役員等の名簿（生年月日、性別、住所を含む。）を提出し、下記の事項について、各都道府県警察本部に照会することを承諾し、照会で確認された情報を、今後、私が貴県と行う契約等における身分確認に利用することに同意します。 なお、これらの事項に反した場合、競争入札参加資格の取消、契約の解除等、貴県が行う一切の措置について異議を申し立てません。
H14: 記 | BH14: 記
I16: １ 役員等（※２）は、次のいずれにも該当しません。 | BI16: １ 役員等（※２）は、次のいずれにも該当しません。
J17: (1) | K17: 暴力団員（暴力団員による不当な行為の防止等に関する法律（平成３年法律第77号。以下 | BJ17: (1) | BK17: 暴力団員（暴力団員による不当な行為の防止等に関する法律（平成３年法律第77号。以下
K18: 「法」という。）第２条第６号に規定する暴力団員をいう。以下同じ。）又は暴力団（法第２ | BK18: 「法」という。）第２条第６号に規定する暴力団員をいう。以下同じ。）又は暴力団（法第２
K19: 条第２号に規定する暴力団をいう。以下同じ。）関係者 | BK19: 条第２号に規定する暴力団をいう。以下同じ。）関係者
J20: (2) | K20: 自己、自社若しくは第三者の不正の利益を図る目的又は第三者に損害を加える目的をもって、 | BJ20: (2) | BK20: 自己、自社若しくは第三者の不正の利益を図る目的又は第三者に損害を加える目的をもって、
K21: 暴力団又は暴力団員を利用するなどしている者 | BK21: 暴力団又は暴力団員を利用するなどしている者
J22: (3) | K22: 暴力団又は暴力団員に対して、資金を供給し、又は便宜を供与するなど直接的あるいは積極 | BJ22: (3) | BK22: 暴力団又は暴力団員に対して、資金を供給し、又は便宜を供与するなど直接的あるいは積極
K23: 的に暴力団の維持、運営に協力し、若しくは関与している者 | BK23: 的に暴力団の維持、運営に協力し、若しくは関与している者
J24: (4) | K24: 暴力団員であることを知りながらこれを不当に利用するなどしている者 | BJ24: (4) | BK24: 暴力団員であることを知りながらこれを不当に利用するなどしている者
J25: (5) | K25: 暴力団員と密接に交際し、社会的に非難されるべき関係を有している者 | BJ25: (5) | BK25: 暴力団員と密接に交際し、社会的に非難されるべき関係を有している者
I27: ２ 暴力団員又は暴力団関係者が、その経営に実質的に関与している法人その他の団体又は個人では | BI27: ２ 暴力団員又は暴力団関係者が、その経営に実質的に関与している法人その他の団体又は個人では
J28: ありません。 | BJ28: ありません。
AL29: =IF('00-01'!AL12=0,"",'00-01'!AL12) -> 令和 年 月 日 | CL29: =IF('00-01'!CL12=0,"",'00-01'!CL12) -> 令和 ○年 ○月 ○日
G31: 沖縄県知事 殿 | BG31: 沖縄県知事 殿
O33: 申請者 | Q33: 所在地 | AB33: =IF('00-01'!AB17=0,"",'00-01'!AB17) | BO33: 申請者 | BQ33: 所在地 | CB33: =IF('00-01'!CB17=0,"",'00-01'!CB17) -> 沖縄県○○市○○○ ○丁目○番地○号
AB34: =IF('00-01'!AB18=0,"",'00-01'!AB18) | CB34: =IF('00-01'!CB18=0,"",'00-01'!CB18) -> ○○ビル ○階
Q35: 商号又は名称 | AB35: =IF('00-01'!AB20=0,"",'00-01'!AB20) | BQ35: 商号又は名称 | CB35: =IF('00-01'!CB20=0,"",'00-01'!CB20) -> ○○株式会社
Q36: (ﾌﾘｶﾞﾅ) | AB36: =IF('00-01'!AB21=0,"",'00-01'!AB21) | BQ36: (ﾌﾘｶﾞﾅ) | CB36: =IF('00-01'!CB21=0,"",'00-01'!CB21) -> マルサンカク マルマル
Q37: 代表者職・氏名 | AB37: =IF('00-01'!AB22=0,"",'00-01'!AB22) | AX37: 印 | BQ37: 代表者職・氏名 | CB37: =IF('00-01'!CB22=0,"",'00-01'!CB22) -> ○△ ○○ | CX37: 印
Q38: 担当者電話番号 | AB38: =IF('00-01'!AB34=0,"",'00-01'!AB34) | BQ38: 担当者電話番号 | CB38: =IF('00-01'!CB34=0,"",'00-01'!CB34) -> 000-0000-0000
Q39: 担当者ＦＡＸ番号 | AB39: =IF('00-01'!AB35=0,"",'00-01'!AB35) | BQ39: 担当者ＦＡＸ番号 | CB39: =IF('00-01'!CB35=0,"",'00-01'!CB35) -> 000-0000-0001
Q40: 担当者メールアドレス | AB40: =IF('00-01'!AB36=0,"",'00-01'!AB36) | BQ40: 担当者メールアドレス | CB40: =IF('00-01'!CB36=0,"",'00-01'!CB36) -> eeee@aaaaaaaaaaa.jp
G43: ※１ | I43: 沖縄県では、沖縄県暴力団排除条例（平成23年沖縄県条例第35号）に基づき、発注物品調達等の契約 | BG43: ※１ | BI43: 沖縄県では、沖縄県暴力団排除条例（平成23年沖縄県条例第35号）に基づき、発注物品調達等の契約
I44: から暴力団を排除しております。 | BI44: から暴力団を排除しております。
G45: ※２ | I45: 役員等とは、法人にあっては非常勤を含む役員及び支配人並びに営業所等の代表者、その他の団体に | BG45: ※２ | BI45: 役員等とは、法人にあっては非常勤を含む役員及び支配人並びに営業所等の代表者、その他の団体に
I46: あっては法人の役員と同様に責任を有する代表者及び理事等、個人にあってはその者及び営業所等を | BI46: あっては法人の役員と同様に責任を有する代表者及び理事等、個人にあってはその者及び営業所等を
I47: 代表する者をいいます。 | BI47: 代表する者をいいます。

Sheet 04
BF5: 記入例
G7: 第４号様式 | BG7: 第４号様式
AI8: 登録番号 | AN8: ※ | CI8: 登録番号 | CN8: ※
G10: 社会保険等加入状況報告書 | BG10: 社会保険等加入状況報告書
AL12: =IF('00-01'!AL12=0,"",'00-01'!AL12) -> 令和 年 月 日 | CL12: =IF('00-01'!CL12=0,"",'00-01'!CL12) -> 令和 ○年 ○月 ○日
R14: 申請者 | T14: 所在地 | AB14: =IF('00-01'!AB17=0,"",'00-01'!AB17) | BR14: 申請者 | BT14: 所在地 | CB14: =IF('00-01'!CB17=0,"",'00-01'!CB17) -> 沖縄県○○市○○○ ○丁目○番地○号
AB15: =IF('00-01'!AB18=0,"",'00-01'!AB18) | CB15: =IF('00-01'!CB18=0,"",'00-01'!CB18) -> ○○ビル ○階
T16: 商号又は名称 | AB16: =IF('00-01'!AB20=0,"",'00-01'!AB20) | BT16: 商号又は名称 | CB16: =IF('00-01'!CB20=0,"",'00-01'!CB20) -> ○○株式会社
T17: (ﾌﾘｶﾞﾅ) | AB17: =IF('00-01'!AB21=0,"",'00-01'!AB21) | BT17: (ﾌﾘｶﾞﾅ) | CB17: =IF('00-01'!CB21=0,"",'00-01'!CB21) -> マルサンカク マルマル
T18: 代表者職・氏名 | AB18: =IF('00-01'!AB22=0,"",'00-01'!AB22) | BT18: 代表者職・氏名 | CB18: =IF('00-01'!CB22=0,"",'00-01'!CB22) -> ○△ ○○
G20: １ 従業員数 | BG20: １ 従業員数
H21: =IF('01'!AL76=0,"",'01'!AL76) | P21: 人（うち役員等 | X21: =IF('01'!BB21=0,"",'01'!BB21) | AF21: 人） | BH21: =IF('01'!CL76=0,"",'01'!CL76) -> 80 | BP21: 人（うち役員等 | BX21: 5 | CF21: 人）
H22: ※アルバイト等も含め、加入義務のある全ての人数を記載すること。 | BH22: ※アルバイト等も含め、加入義務のある全ての人数を記載すること。
H23: （ ）内には、役員（同居の親族である従業員を含む）の人数を記載すること。 | BH23: （ ）内には、役員（同居の親族である従業員を含む）の人数を記載すること。
G25: ２ 社会保険等の加入状況 | BG25: ２ 社会保険等の加入状況
H26: 保険の種類 | Q26: 加入状況 | AA26: 主な添付書類 | BH26: 保険の種類 | BQ26: 加入状況 | CA26: 主な添付書類
H27: 健康保険 | Q27: □ | S27: １ 加入 | AA27: 社会保険料納入確認書 または | BH27: 健康保険 | BQ27: ☑ | BS27: １ 加入 | CA27: 社会保険料納入確認書 または
Q28: □ | S28: ２ 未加入 | AA28: 社会保険料納入証明書 または | BQ28: □ | BS28: ２ 未加入 | CA28: 社会保険料納入証明書 または
Q29: □ | S29: ３ 適用除外 | AA29: 直近の「保険料納入告知額・領収済額通知書」 | BQ29: □ | BS29: ３ 適用除外 | CA29: 直近の「保険料納入告知額・領収済額通知書」
H31: 厚生年金保険 | Q31: □ | S31: １ 加入 | BH31: 厚生年金保険 | BQ31: ☑ | BS31: １ 加入
Q32: □ | S32: ２ 未加入 | BQ32: □ | BS32: ２ 未加入
Q33: □ | S33: ３ 適用除外 | BQ33: □ | BS33: ３ 適用除外
H35: 労働保険 | Q35: □ | S35: １ 加入 | AA35: 労働保険証明書 または | BH35: 労働保険 | BQ35: ☑ | BS35: １ 加入 | CA35: 労働保険証明書 または
H36: （雇用保険及び | Q36: □ | S36: ２ 未加入 | AA36: 直近の「納付書・領収証書」（金融機関の領収印が | BH36: （雇用保険及び | BQ36: □ | BS36: ２ 未加入 | CA36: 直近の「納付書・領収証書」（金融機関の領収印が
H37: 労災保険） | Q37: □ | S37: ３ 適用除外 | AA37: あるものに限る） | BH37: 労災保険） | BQ37: □ | BS37: ３ 適用除外 | CA37: あるものに限る）
G40: ３ 社会保険等に未加入又は適用除外となっている理由 | BG40: ３ 社会保険等に未加入又は適用除外となっている理由
H41: 区分 | P41: 理由 | BH41: 区分 | BP41: 理由
H42: 健康保険 及び | Q42: □ | S42: 従業員が５人未満の個人事業所であるため、加入義務がない。 | BH42: 健康保険 及び | BQ42: □ | BS42: 従業員が５人未満の個人事業所であるため、加入義務がない。
H43: 厚生年金保険 | Q43: □ | S43: その他（未加入等の場合は、具体的な理由を記載してください。） | BH43: 厚生年金保険 | BQ43: □ | BS43: その他（未加入等の場合は、具体的な理由を記載してください。）
H45: 労働保険 | P45: （具体的な理由を記載してください。） | BH45: 労働保険 | BP45: （具体的な理由を記載してください。）
G49: 裏面 | BG49: 裏面
G50: （注） | BG50: （注）
G51: 社会保険に加入し、保険料を納付していることを確認するため、次に掲げるいずれかの書類（申請日直近のもの）の写しを提出してください。 | BG51: 社会保険に加入し、保険料を納付していることを確認するため、次に掲げるいずれかの書類（申請日直近のもの）の写しを提出してください。
G53: 健康保険・厚生年金保険 | BG53: 健康保険・厚生年金保険
G54: l 社会保険料納入確認書 | BG54: l 社会保険料納入確認書
G55: l 社会保険料納入証明書 | BG55: l 社会保険料納入証明書
G56: l 厚生労働省からの保険料納入告示額・領収済額通知書 | BG56: l 厚生労働省からの保険料納入告示額・領収済額通知書
G57: l 健康保険料及び厚生年金保険料の納付書又は領収書（領収印があるもの） | BG57: l 健康保険料及び厚生年金保険料の納付書又は領収書（領収印があるもの）
G58: l 健康保険料及び厚生年金保険料の領収済通知書（領収印があるもの） | BG58: l 健康保険料及び厚生年金保険料の領収済通知書（領収印があるもの）
G59: l 健康保険料及び厚生年金保険料の納入額の告知書と振込・口座振替明細 | BG59: l 健康保険料及び厚生年金保険料の納入額の告知書と振込・口座振替明細
...

Sheet 00-02
BF5: 記入例
AI8: 登録番号 | AN8: ※ | CI8: 登録番号 | CN8: ※
G10: 資格申請事項変更届提出に係るチェックシート | BG10: 資格申請事項変更届提出に係るチェックシート
AL12: =IF('00-01'!AL12=0,"",'00-01'!AL12) -> 令和 年 月 日 | CL12: =IF('00-01'!CL12=0,"",'00-01'!CL12) -> 令和 ○年 ○月 ○日
R16: 申請者 | T16: 郵便番号 | AB16: =IF('00-01'!AB16=0,"",'00-01'!AB16) | BR16: 申請者 | BT16: 郵便番号 | CB16: =IF('00-01'!CB16=0,"",'00-01'!CB16) -> 000-0000
T17: 所在地 | AB17: =IF('00-01'!AB17=0,"",'00-01'!AB17) | BT17: 所在地 | CB17: =IF('00-01'!CB17=0,"",'00-01'!CB17) -> 沖縄県○○市○○○ ○丁目○番地○号
AB18: =IF('00-01'!AB18=0,"",'00-01'!AB18) | CB18: =IF('00-01'!CB18=0,"",'00-01'!CB18) -> ○○ビル ○階
T19: (ﾌﾘｶﾞﾅ) | AB19: =IF('00-01'!AB19=0,"",'00-01'!AB19) | BT19: (ﾌﾘｶﾞﾅ) | CB19: マルマルカブシキガイシャ
T20: 商号又は名称 | AB20: =IF('00-01'!AB20=0,"",'00-01'!AB20) | BT20: 商号又は名称 | CB20: =IF('00-01'!CB20=0,"",'00-01'!CB20) -> ○○株式会社
T21: (ﾌﾘｶﾞﾅ) | AB21: =IF('00-01'!AB21=0,"",'00-01'!AB21) | BT21: (ﾌﾘｶﾞﾅ) | CB21: =IF('00-01'!CB21=0,"",'00-01'!CB21) -> マルサンカク マルマル
T22: 代表者職・氏名 | AB22: =IF('00-01'!AB22=0,"",'00-01'!AB22) | BT22: 代表者職・氏名 | CB22: =IF('00-01'!CB22=0,"",'00-01'!CB22) -> ○△ ○○
T23: 電話番号 | AB23: =IF('00-01'!AB23=0,"",'00-01'!AB23) | BT23: 電話番号 | CB23: =IF('00-01'!CB23=0,"",'00-01'!CB23) -> 000-0000-0000
T24: ＦＡＸ番号 | AB24: =IF('00-01'!AB24=0,"",'00-01'!AB24) | BT24: ＦＡＸ番号 | CB24: =IF('00-01'!CB24=0,"",'00-01'!CB24) -> 000-0000-0001
T25: メールアドレス | AB25: =IF('00-01'!AB25=0,"",'00-01'!AB25) | BT25: メールアドレス | CB25: =IF('00-01'!CB25=0,"",'00-01'!CB25) -> abca@aaaaaaaaaaa.jp
R27: （担当者） | T27: 郵便番号 | AB27: =AB16&"" | BR27: 申請者 | BT27: 郵便番号 | CB27: =IF('00-01'!CB27=0,"",'00-01'!CB27) -> 000-0000
T28: 所在地 | AB28: =AB17&"" | BT28: 所在地 | CB28: =IF('00-01'!CB28=0,"",'00-01'!CB28) -> 沖縄県○○市○○○ ○丁目○番地○号
AB29: =AB18&"" | CB29: =IF('00-01'!CB29=0,"",'00-01'!CB29) -> ○○ビル ○階
T30: 商号又は名称 | AB30: =AB20&"" | BT30: 商号又は名称 | CB30: =IF('00-01'!CB30=0,"",'00-01'!CB30) -> ○○株式会社
T31: 所属部署等 | AB31: =IF('00-01'!AB31=0,"",'00-01'!AB31) | BR31: （担当者） | BT31: 所属部署等 | CB31: =IF('00-01'!CB31=0,"",'00-01'!CB31) -> ○○部○○課
T32: (ﾌﾘｶﾞﾅ) | AB32: =IF('00-01'!AB32=0,"",'00-01'!AB32) | BT32: (ﾌﾘｶﾞﾅ) | CB32: =IF('00-01'!CB32=0,"",'00-01'!CB32) -> マルサンカク マルマル
T33: 氏名 | AB33: =IF('00-01'!AB33=0,"",'00-01'!AB33) | BT33: 氏名 | CB33: =IF('00-01'!CB33=0,"",'00-01'!CB33) -> ○△ □□
T34: 電話番号 | AB34: =AB23&"" | BT34: 電話番号 | CB34: =IF('00-01'!CB34=0,"",'00-01'!CB34) -> 000-0000-0000
T35: ＦＡＸ番号 | AB35: =IF('00-01'!AB35=0,"",'00-01'!AB35) | BT35: ＦＡＸ番号 | CB35: =IF('00-01'!CB35=0,"",'00-01'!CB35) -> 000-0000-0001
T36: メールアドレス | AB36: =IF('00-01'!AB36=0,"",'00-01'!AB36) | BT36: メールアドレス | CB36: =IF('00-01'!CB36=0,"",'00-01'!CB36) -> eeee@aaaaaaaaaaa.jp
G38: １ 競争入札名 | BG38: １ 競争入札名
H39: =IF('00-01'!H39=0,"",'00-01'!H39) -> 沖縄県立中部Ａ特別支援学校（仮称）における配管に係る機器（厨房機器等）一式の調達に係る入札 | BH39: =IF('00-01'!BH39=0,"",'00-01'!BH39) -> 沖縄県立中部Ａ特別支援学校（仮称）における配管に係る機器（厨房機器等）一式の調達に係る入札
G41: ２ 営業種目 | BG41: ２ 営業種目
P42: 第１営業種目 （主な営業種目） | AB42: 第２営業種目 （兼業種目） | AN42: 第３営業種目 （兼業種目） | BP42: 第１営業種目 （主な営業種目） | CB42: 第２営業種目 （兼業種目） | CN42: 第３営業種目 （兼業種目）
H43: 種別・種目番号 | BH43: 種別・種目番号
H44: 種目名 | P44: =IF('00-01'!P44=0,"",'00-01'!P44) | AB44: =IF('00-01'!AB44=0,"",'00-01'!AB44) | AN44: =IF('00-01'!AN44=0,"",'00-01'!AN44) | BH44: 種目名 | BP44: =IF('00-01'!BP44=0,"",'00-01'!BP44) -> 建築工事業 | CB44: =IF('00-01'!CB44=0,"",'00-01'!CB44) -> 調理業務 | CN44: =IF('00-01'!CN44=0,"",'00-01'!CN44)
AY47: =AB20&"" | CY47: =CB20&"" -> ○○株式会社
H48: ※申請書類にもれがないか再度確認し、このシートも申請書類とあわせて提出ください。 | BH48: ※申請書類にもれがないか再度確認し、このシートも申請書類とあわせて提出ください。
H49: ※提出した書類のチェック欄に○を記入してください。 | BH49: ※提出した書類のチェック欄に○を記入してください。
H50: ※その他、各事業者の個別の事情に応じて、追加の書類を求めることがあります。 | BH50: ※その他、各事業者の個別の事情に応じて、追加の書類を求めることがあります。
H51: 01～02はこのファイルに含まれる様式等 | BH51: 01～03はこのファイルに含まれる様式等
X52: 様式 | AA52: 確認事項等 | AW52: チェック | BX52: 様式 | CA52: 確認事項等 | CW52: チェック
H53: 01 | J53: チェックシート | BH53: 01 | BJ53: チェックシート | CW53: ○
H54: 02 | J54: 資格申請事項変更届 | X54: 第５号 | BH54: 02 | BJ54: 資格申請事項変更届 | BX54: 第５号 | CW54: ○
H55: 03 | J55: 誓約書 | X55: 第３号 | AA55: ・記載事項（所在地、商号又は名称等、詳細は様式を 参照）に係る部分の変更があった場合に提出 | BH55: 03 | BJ55: 誓約書 | BX55: 第３号 | CA55: ・記載事項（所在地、商号又は名称等、詳細は様式を 参照）に係る部分の変更があった場合に提出 | CW55: ○
H56: 03 | J56: 登記事項証明書 | AA56: ・履歴事項全部証明書ですか。 ・申請書提出日から３ヶ月以内のものですか。 （本社） ①法人登記簿謄本（写し可） （支社・営業所等） 支店登記がある場合 ②法人登記簿謄本（写し可） 支店登記がない場合 ③確認可能な書類がある場合は添付 ［案内広告葉書等］ ※郵便番号の変更も記載してください。 | BH56: 04 | BJ56: 登記事項証明書 | CA56: ・履歴事項全部証明書ですか。 ・申請書提出日から３ヶ月以内のものですか。 （本社） ①法人登記簿謄本（写し可） （支社・営業所等） 支店登記がある場合 ②法人登記簿謄本（写し可） 支店登記がない場合 ③確認可能な書類がある場合は添付 ［案内広告葉書等］ ※郵便番号の変更も記載してください。 | CW56: ○

Sheet 05
BF5: 記入例
G7: 第５号様式 | BG7: 第５号様式
AI8: 登録番号 | AN8: ※ | CI8: 登録番号 | CN8: ※
G10: 資格申請事項変更届 | BG10: 資格申請事項変更届
AL12: 令和 年 月 日 | CL12: 令和 年 月 日
G14: 沖縄県知事 殿 | BG14: 沖縄県知事 殿
R16: 申請者 | T16: 郵便番号 | AB16: =IF('00-01'!AB16=0,"",'00-01'!AB16) | BR16: 申請者 | BT16: 郵便番号 | CB16: =IF('00-01'!CB16=0,"",'00-01'!CB16) -> 000-0000
T17: 所在地 | AB17: =IF('00-01'!AB17=0,"",'00-01'!AB17) | BT17: 所在地 | CB17: =IF('00-01'!CB17=0,"",'00-01'!CB17) -> 沖縄県○○市○○○ ○丁目○番地○号
AB18: =IF('00-01'!AB18=0,"",'00-01'!AB18) | CB18: =IF('00-01'!CB18=0,"",'00-01'!CB18) -> ○○ビル ○階
T19: 商号又は名称 | AB19: =IF('00-01'!AB20=0,"",'00-01'!AB20) | BT19: 商号又は名称 | CB19: =IF('00-01'!CB20=0,"",'00-01'!CB20) -> ○○株式会社
T20: (ﾌﾘｶﾞﾅ) | AB20: =IF('00-01'!AB21=0,"",'00-01'!AB21) | BT20: (ﾌﾘｶﾞﾅ) | CB20: =IF('00-01'!CB21=0,"",'00-01'!CB21) -> マルサンカク マルマル
T21: 代表者職・氏名 | AB21: =IF('00-01'!AB22=0,"",'00-01'!AB22) | BT21: 代表者職・氏名 | CB21: =IF('00-01'!CB22=0,"",'00-01'!CB22) -> ○△ ○○
T22: 電話番号 | AB22: =IF('00-01'!AB23=0,"",'00-01'!AB23) | BT22: 電話番号 | CB22: =IF('00-01'!CB23=0,"",'00-01'!CB23) -> 000-0000-0000
T23: ＦＡＸ番号 | AB23: =IF('00-01'!AB24=0,"",'00-01'!AB24) | BT23: ＦＡＸ番号 | CB23: =IF('00-01'!CB24=0,"",'00-01'!CB24) -> 000-0000-0001
T24: メールアドレス | AB24: =IF('00-01'!AB25=0,"",'00-01'!AB25) | BT24: メールアドレス | CB24: =IF('00-01'!CB25=0,"",'00-01'!CB25) -> abca@aaaaaaaaaaa.jp
G26: 競争入札参加資格登録申請書の記載事項について、下記のとおり変更しましたので届け出ます。 | BG26: 競争入札参加資格登録申請書の記載事項について、下記のとおり変更しましたので届け出ます。
G28: 記 | BG28: 記
G30: 変更事項及び 変更年月日 | P30: 変更前 | AH30: 変更後 | BG30: 変更事項及び 変更年月日 | BP30: 変更前 | CH30: 変更後
BG31: 46238 | BP31: ○△ ○○ | CH31: ○△ ○□
BG32: 代表者氏名
G34: （注）変更事項の内容に関する証明書類を添付すること。 | BG34: （注）変更事項の内容に関する証明書類を添付すること。

Sheet 00-03
BF5: 記入例
AI8: 登録番号 | AN8: ※ | CI8: 登録番号 | CN8: ※
G10: 一般競争入札参加申込書提出に係るチェックシート | BG10: 資格申請事項変更届提出に係るチェックシート
AL12: =IF('00-01'!AL12=0,"",'00-01'!AL12) -> 令和 年 月 日 | CL12: =IF('00-01'!CL12=0,"",'00-01'!CL12) -> 令和 ○年 ○月 ○日
R16: 申請者 | T16: 郵便番号 | AB16: =IF('00-01'!AB16=0,"",'00-01'!AB16) | BR16: 申請者 | BT16: 郵便番号 | CB16: =IF('00-01'!CB16=0,"",'00-01'!CB16) -> 000-0000
T17: 所在地 | AB17: =IF('00-01'!AB17=0,"",'00-01'!AB17) | BT17: 所在地 | CB17: =IF('00-01'!CB17=0,"",'00-01'!CB17) -> 沖縄県○○市○○○ ○丁目○番地○号
AB18: =IF('00-01'!AB18=0,"",'00-01'!AB18) | CB18: =IF('00-01'!CB18=0,"",'00-01'!CB18) -> ○○ビル ○階
T19: (ﾌﾘｶﾞﾅ) | AB19: =IF('00-01'!AB19=0,"",'00-01'!AB19) | BT19: (ﾌﾘｶﾞﾅ) | CB19: マルマルカブシキガイシャ
T20: 商号又は名称 | AB20: =IF('00-01'!AB20=0,"",'00-01'!AB20) | BT20: 商号又は名称 | CB20: =IF('00-01'!CB20=0,"",'00-01'!CB20) -> ○○株式会社
T21: (ﾌﾘｶﾞﾅ) | AB21: =IF('00-01'!AB21=0,"",'00-01'!AB21) | BT21: (ﾌﾘｶﾞﾅ) | CB21: =IF('00-01'!CB21=0,"",'00-01'!CB21) -> マルサンカク マルマル
T22: 代表者職・氏名 | AB22: =IF('00-01'!AB22=0,"",'00-01'!AB22) | BT22: 代表者職・氏名 | CB22: =IF('00-01'!CB22=0,"",'00-01'!CB22) -> ○△ ○○
T23: 電話番号 | AB23: =IF('00-01'!AB23=0,"",'00-01'!AB23) | BT23: 電話番号 | CB23: =IF('00-01'!CB23=0,"",'00-01'!CB23) -> 000-0000-0000
T24: ＦＡＸ番号 | AB24: =IF('00-01'!AB24=0,"",'00-01'!AB24) | BT24: ＦＡＸ番号 | CB24: =IF('00-01'!CB24=0,"",'00-01'!CB24) -> 000-0000-0001
T25: メールアドレス | AB25: =IF('00-01'!AB25=0,"",'00-01'!AB25) | BT25: メールアドレス | CB25: =IF('00-01'!CB25=0,"",'00-01'!CB25) -> abca@aaaaaaaaaaa.jp
R27: （担当者） | T27: 郵便番号 | AB27: =AB16&"" | BR27: 申請者 | BT27: 郵便番号 | CB27: =IF('00-01'!CB27=0,"",'00-01'!CB27) -> 000-0000
T28: 所在地 | AB28: =AB17&"" | BT28: 所在地 | CB28: =IF('00-01'!CB28=0,"",'00-01'!CB28) -> 沖縄県○○市○○○ ○丁目○番地○号
AB29: =AB18&"" | CB29: =IF('00-01'!CB29=0,"",'00-01'!CB29) -> ○○ビル ○階
T30: 商号又は名称 | AB30: =AB20&"" | BT30: 商号又は名称 | CB30: =IF('00-01'!CB30=0,"",'00-01'!CB30) -> ○○株式会社
T31: 所属部署等 | AB31: =IF('00-01'!AB31=0,"",'00-01'!AB31) | BR31: （担当者） | BT31: 所属部署等 | CB31: =IF('00-01'!CB31=0,"",'00-01'!CB31) -> ○○部○○課
T32: (ﾌﾘｶﾞﾅ) | AB32: =IF('00-01'!AB32=0,"",'00-01'!AB32) | BT32: (ﾌﾘｶﾞﾅ) | CB32: =IF('00-01'!CB32=0,"",'00-01'!CB32) -> マルサンカク マルマル
T33: 氏名 | AB33: =IF('00-01'!AB33=0,"",'00-01'!AB33) | BT33: 氏名 | CB33: =IF('00-01'!CB33=0,"",'00-01'!CB33) -> ○△ □□
T34: 電話番号 | AB34: =AB23&"" | BT34: 電話番号 | CB34: =IF('00-01'!CB34=0,"",'00-01'!CB34) -> 000-0000-0000
T35: ＦＡＸ番号 | AB35: =IF('00-01'!AB35=0,"",'00-01'!AB35) | BT35: ＦＡＸ番号 | CB35: =IF('00-01'!CB35=0,"",'00-01'!CB35) -> 000-0000-0001
T36: メールアドレス | AB36: =IF('00-01'!AB36=0,"",'00-01'!AB36) | BT36: メールアドレス | CB36: =IF('00-01'!CB36=0,"",'00-01'!CB36) -> eeee@aaaaaaaaaaa.jp
G38: １ 競争入札名 | BG38: １ 競争入札名
H39: =IF('00-01'!H39=0,"",'00-01'!H39) -> 沖縄県立中部Ａ特別支援学校（仮称）における配管に係る機器（厨房機器等）一式の調達に係る入札 | BH39: =IF('00-01'!BH39=0,"",'00-01'!BH39) -> 沖縄県立中部Ａ特別支援学校（仮称）における配管に係る機器（厨房機器等）一式の調達に係る入札
G41: ２ 営業種目 | BG41: ２ 営業種目
P42: 第１営業種目 （主な営業種目） | AB42: 第２営業種目 （兼業種目） | AN42: 第３営業種目 （兼業種目） | BP42: 第１営業種目 （主な営業種目） | CB42: 第２営業種目 （兼業種目） | CN42: 第３営業種目 （兼業種目）
H43: 種別・種目番号 | BH43: 種別・種目番号
H44: 種目名 | P44: =IF('00-01'!P44=0,"",'00-01'!P44) | AB44: =IF('00-01'!AB44=0,"",'00-01'!AB44) | AN44: =IF('00-01'!AN44=0,"",'00-01'!AN44) | BH44: 種目名 | BP44: =IF('00-01'!BP44=0,"",'00-01'!BP44) -> 建築工事業 | CB44: =IF('00-01'!CB44=0,"",'00-01'!CB44) -> 調理業務 | CN44: =IF('00-01'!CN44=0,"",'00-01'!CN44)
AY47: =AB20&"" | CY47: =CB20&"" -> ○○株式会社
H48: ※申請書類にもれがないか再度確認し、このシートも申請書類とあわせて提出ください。 | BH48: ※申請書類にもれがないか再度確認し、このシートも申請書類とあわせて提出ください。
H49: ※提出した書類のチェック欄に○を記入してください。 | BH49: ※提出した書類のチェック欄に○を記入してください。
H50: ※その他、各事業者の個別の事情に応じて、追加の書類を求めることがあります。 | BH50: ※その他、各事業者の個別の事情に応じて、追加の書類を求めることがあります。
H51: 01～08,09,10,14はこのファイルに含まれる様式等 | BH51: 01～08,09,10,17はこのファイルに含まれる様式等
X52: 様式 | AC52: 確認事項等 | AW52: チェック | BX52: 様式 | CC52: 確認事項等 | CW52: チェック
H53: 01 | J53: チェックシート | BH53: 01 | BJ53: チェックシート | CW53: ○
H54: 02 | J54: =目次!K27 -> 一般競争入札参加申込書 | X54: =目次!L27 -> 第６号 | BH54: 02 | BJ54: 一般競争入札参加申込書 | BX54: 第６号 | CW54: ○
H55: 03 | J55: =目次!K28 -> 債務者登録票 | X55: =目次!L28 -> 第７号 | AC55: 入札保証金免除の場合は不要 | BH55: 03 | BJ55: 債務者登録票 | BX55: 第７号 | CC55: 入札保証金免除の場合は不要
H56: 04 | J56: =目次!K29 -> 入札保証金納付書発行依頼書 | X56: =目次!L29 -> 第８号 | AC56: 入札保証金免除の場合は不要 | BH56: 04 | BJ56: 入札保証金納付書発行依頼書 | BX56: 第８号 | CC56: 入札保証金免除の場合は不要
...

Sheet 06
BF5: 記入例
G7: 第６号様式 | BG7: 第６号様式
AI8: 登録番号 | AN8: ※ | CI8: 登録番号 | CN8: ※
G10: 一般競争入札参加申込書 | BG10: 一般競争入札参加申込書
AL12: =IF('00-01'!AL12=0,"",'00-01'!AL12) -> 令和 年 月 日 | CL12: =IF('00-01'!CL12=0,"",'00-01'!CL12) -> 令和 ○年 ○月 ○日
G14: 沖縄県知事 殿 | BG14: 沖縄県知事 殿
R16: 申請者 | T16: 郵便番号 | AB16: =IF('00-01'!AB16=0,"",'00-01'!AB16) | BR16: 申請者 | BT16: 郵便番号 | CB16: =IF('00-01'!CB16=0,"",'00-01'!CB16) -> 000-0000
T17: 所在地 | AB17: =IF('00-01'!AB17=0,"",'00-01'!AB17) | BT17: 所在地 | CB17: =IF('00-01'!CB17=0,"",'00-01'!CB17) -> 沖縄県○○市○○○ ○丁目○番地○号
AB18: =IF('00-01'!AB18=0,"",'00-01'!AB18) | CB18: =IF('00-01'!CB18=0,"",'00-01'!CB18) -> ○○ビル ○階
T19: 商号又は名称 | AB19: =IF('00-01'!AB20=0,"",'00-01'!AB20) | BT19: 商号又は名称 | CB19: =IF('00-01'!CB20=0,"",'00-01'!CB20) -> ○○株式会社
T20: (ﾌﾘｶﾞﾅ) | AB20: =IF('00-01'!AB21=0,"",'00-01'!AB21) | BT20: (ﾌﾘｶﾞﾅ) | CB20: =IF('00-01'!CB21=0,"",'00-01'!CB21) -> マルサンカク マルマル
T21: 代表者職・氏名 | AB21: =IF('00-01'!AB22=0,"",'00-01'!AB22) | AY21: 印 | BT21: 代表者職・氏名 | CB21: =IF('00-01'!CB22=0,"",'00-01'!CB22) -> ○△ ○○ | CY21: 印
T22: 電話番号 | AB22: =IF('00-01'!AB23=0,"",'00-01'!AB23) | BT22: 電話番号 | CB22: =IF('00-01'!CB23=0,"",'00-01'!CB23) -> 000-0000-0000
T23: ＦＡＸ番号 | AB23: =IF('00-01'!AB24=0,"",'00-01'!AB24) | BT23: ＦＡＸ番号 | CB23: =IF('00-01'!CB24=0,"",'00-01'!CB24) -> 000-0000-0001
T24: メールアドレス | AB24: =IF('00-01'!AB25=0,"",'00-01'!AB25) | BT24: メールアドレス | CB24: =IF('00-01'!CB25=0,"",'00-01'!CB25) -> abca@aaaaaaaaaaa.jp
G26: 下記により、物品購入の一般競争入札に参加したいので、書類を添えて申し込みます。 | BG26: 下記により、物品購入の一般競争入札に参加したいので、書類を添えて申し込みます。
G28: 記 | BG28: 記
G30: 沖縄県立中部Ａ特別支援学校（仮称）における「配管に係る機器（厨房機器等）」一式の調達にかかる入札に参加します。 | BG30: 沖縄県立中部Ａ特別支援学校（仮称）における「配管に係る機器（厨房機器等）」一式の調達にかかる入札に参加します。
G32: １ 入札保証金の納付方法 | BG32: １ 入札保証金の納付方法
H33: □ | I33: 納付書による納付 | T33: □ | U33: 免除規定に該当 | BH33: □ | BI33: 納付書による納付 | BT33: ☑ | BU33: 免除規定に該当
T34: （添付書類 | Z34: □ | AA34: 入札保証保険契約書 | AL34: □ | AM34: 契約実績書（第２号様式）） | BT34: （添付書類 | BZ34: □ | CA34: 入札保証保険契約書 | CL34: ☑ | CM34: 契約実績書（第２号様式））

Sheet 07
G7: 第７号様式 | BG7: 第７号様式
L8: 登録番号 | N8: ※ | BL8: 登録番号 | BN8: ※
G10: 債務者登録票 | BG10: 債務者登録票
G12: 郵便番号 | H12: =IF('00-01'!AB16=0,"",'00-01'!AB16) | L12: 電話番号 | N12: =IF('00-01'!AB23=0,"",'00-01'!AB23) | BG12: 郵便番号 | BH12: =IF('00-01'!CB16=0,"",'00-01'!CB16) -> 000-0000 | BL12: 電話番号 | BN12: =IF('00-01'!CB23=0,"",'00-01'!CB23) -> 000-0000-0000
G13: （ﾌﾘｶﾞﾅ） | BG13: （ﾌﾘｶﾞﾅ）
G14: 住 所 | H14: =IF('00-01'!AB17=0,"",'00-01'!AB17) | BG14: 住 所 | BH14: =IF('00-01'!CB17=0,"",'00-01'!CB17) -> 沖縄県○○市○○○ ○丁目○番地○号
H16: =IF('00-01'!AB18=0,"",'00-01'!AB18) | BH16: =IF('00-01'!CB18=0,"",'00-01'!CB18) -> ○○ビル ○階
G17: （ﾌﾘｶﾞﾅ） | BG17: （ﾌﾘｶﾞﾅ）
G18: 会社名 | H18: =IF('00-01'!AB20=0,"",'00-01'!AB20) | BG18: 会社名 | BH18: =IF('00-01'!CB20=0,"",'00-01'!CB20) -> ○○株式会社
G19: （ﾌﾘｶﾞﾅ） | H19: =IF('00-01'!AB21=0,"",'00-01'!AB21) | BG19: （ﾌﾘｶﾞﾅ） | BH19: =IF('00-01'!CB21=0,"",'00-01'!CB21) -> マルサンカク マルマル
G20: 代表者名 | H20: =IF('00-01'!AB22=0,"",'00-01'!AB22) | BG20: 代表者名 | BH20: =IF('00-01'!CB22=0,"",'00-01'!CB22) -> ○△ ○○
G21: 預金種別 | H21: ○ | I21: 普通預金 | K21: 当座預金 | BG21: 預金種別 | BH21: ○ | BI21: 普通預金 | BK21: 当座預金
G22: （ﾌﾘｶﾞﾅ） | BG22: （ﾌﾘｶﾞﾅ）
G23: 金融機関名 | K23: 銀行 | O23: 支店 | BG23: 金融機関名 | BH23: □□ | BK23: 銀行 | BL23: □△ | BO23: 支店
G24: 口座番号 | BG24: 口座番号 | BH24: 0000000
G25: （ﾌﾘｶﾞﾅ） | H25: =IF('00-01'!AB21=0,"",'00-01'!AB21) | BG25: （ﾌﾘｶﾞﾅ） | BH25: =IF('00-01'!CB21=0,"",'00-01'!CB21) -> マルサンカク マルマル
G26: 口座名義人 | H26: =IF('00-01'!AB22=0,"",'00-01'!AB22) | BG26: 口座名義人 | BH26: =IF('00-01'!CB22=0,"",'00-01'!CB22) -> ○△ ○○
G27: 納付金額 | BG27: 納付金額 | BH27: 10
G28: 上記のとおり登録をお願いします。 | BG28: 上記のとおり登録をお願いします。
M29: =IF('00-01'!AL12=0,"",'00-01'!AL12) -> 令和 年 月 日 | BM29: =IF('00-01'!CL12=0,"",'00-01'!CL12) -> 令和 ○年 ○月 ○日
G30: 沖縄県知事殿 | BG30: 沖縄県知事殿
I32: 住所 | K32: =IF('00-01'!AB17=0,"",'00-01'!AB17) | BI32: 住所 | BK32: =IF('00-01'!CB17=0,"",'00-01'!CB17) -> 沖縄県○○市○○○ ○丁目○番地○号
K33: =IF('00-01'!AB18=0,"",'00-01'!AB18) | BK33: =IF('00-01'!CB18=0,"",'00-01'!CB18) -> ○○ビル ○階
I34: 商号又は名称 | K34: =IF('00-01'!AB20=0,"",'00-01'!AB20) | BI34: 商号又は名称 | BK34: =IF('00-01'!CB20=0,"",'00-01'!CB20) -> ○○株式会社
I35: 代表者職・氏名 | K35: =IF('00-01'!AB22=0,"",'00-01'!AB22) | O35: 印 | BI35: 代表者職・氏名 | BK35: =IF('00-01'!CB22=0,"",'00-01'!CB22) -> ○△ ○○ | BO35: 印

Sheet 08
G7: 第８号様式 | BG7: 第８号様式
X8: 登録番号 | AB8: ※ | BX8: 登録番号 | CB8: ※
G10: 入札保証金納付書発行依頼書 | BG10: 入札保証金納付書発行依頼書
G11: （現金で納付する場合使用） | BG11: （現金で納付する場合使用）
AB13: =IF('00-01'!AL12=0,"",'00-01'!AL12) -> 令和 年 月 日 | CB13: =IF('00-01'!CL12=0,"",'00-01'!CL12) -> 令和 ○年 ○月 ○日
G15: 沖縄県知事殿 | BG15: 沖縄県知事殿
R17: 住所 | W17: =IF('00-01'!AB17=0,"",'00-01'!AB17) | BR17: 住所 | BW17: =IF('00-01'!CB17=0,"",'00-01'!CB17) -> 沖縄県○○市○○○ ○丁目○番地○号
W18: =IF('00-01'!AB18=0,"",'00-01'!AB18) | BW18: =IF('00-01'!CB18=0,"",'00-01'!CB18) -> ○○ビル ○階
R19: 商号又は名称 | W19: =IF('00-01'!AB20=0,"",'00-01'!AB20) | BR19: 商号又は名称 | BW19: =IF('00-01'!CB20=0,"",'00-01'!CB20) -> ○○株式会社
R20: 代表者職・氏名 | W20: =IF('00-01'!AB22=0,"",'00-01'!AB22) | AI20: 印 | BR20: 代表者職・氏名 | BW20: =IF('00-01'!CB22=0,"",'00-01'!CB22) -> ○△ ○○ | CI20: 印
G22: 下記により、一般競争入札に参加のため、入札保証金納付に係る納付書の発行を依頼します。 | BG22: 下記により、一般競争入札に参加のため、入札保証金納付に係る納付書の発行を依頼します。
G24: 記 | BG24: 記
G26: 沖縄県立中部Ａ特別支援学校（仮称）における配管に係る機器（厨房機器等）一式の調達に係る入札に参加し | BG26: 沖縄県立中部Ａ特別支援学校（仮称）における配管に係る機器（厨房機器等）一式の調達に係る入札に参加し
G27: ます。 | BG27: ます。
G29: 入札保証金額 | BG29: 入札保証金額
H30: 億 | J30: 千 | L30: 百 | N30: 十 | P30: 万 | R30: 千 | T30: 百 | V30: 十 | X30: 円 | BH30: 億 | BJ30: 千 | BL30: 百 | BN30: 十 | BP30: 万 | BR30: 千 | BT30: 百 | BV30: 十 | BX30: 円
BV31: \ | BX31: 1
H33: ※ 金額の記入は、算用数字を使用して鮮明に記載し、 | BH33: ※ 金額の記入は、算用数字を使用して鮮明に記載し、
H34: その頭部に「￥」を記入して下さい。 | BH34: その頭部に「￥」を記入して下さい。

Sheet 09
G7: 第９号様式 | BG7: 第９号様式
AI8: 登録番号 | AN8: ※ | CI8: 登録番号 | CN8: ※
G10: 入札保証金返還請求書 | BG10: 入札保証金返還請求書
AO12: =IF('00-01'!AL12=0,"",'00-01'!AL12) -> 令和 年 月 日 | CO12: =IF('00-01'!CL12=0,"",'00-01'!CL12) -> 令和 ○年 ○月 ○日
G14: 沖縄県知事殿 | BG14: 沖縄県知事殿
R16: 住所 | AC16: =IF('00-01'!AB17=0,"",'00-01'!AB17) | BR16: 住所 | CC16: =IF('00-01'!CB17=0,"",'00-01'!CB17) -> 沖縄県○○市○○○ ○丁目○番地○号
AC17: =IF('00-01'!AB18=0,"",'00-01'!AB18) | CC17: =IF('00-01'!CB18=0,"",'00-01'!CB18) -> ○○ビル ○階
R18: 商号又は名称 | AC18: =IF('00-01'!AB20=0,"",'00-01'!AB20) | BR18: 商号又は名称 | CC18: =IF('00-01'!CB20=0,"",'00-01'!CB20) -> ○○株式会社
R19: 代表者職・氏名 | AC19: =IF('00-01'!AB22=0,"",'00-01'!AB22) | AY19: 印 | BR19: 代表者職・氏名 | CC19: =IF('00-01'!CB22=0,"",'00-01'!CB22) -> ○△ ○○ | CY19: 印
G21: 令和 年 月 日付け入札において落札とならなかったため、下記入札にかかる入札保証金の返還を請求します。 | BG21: 令和 年 月 日付け入札において落札とならなかったため、下記入札にかかる入札保証金の返還を請求します。
G23: 記 | BG23: 記
G25: １ 件名沖縄県立中部Ａ特別支援学校（仮称）における配管に係る機器（厨房機器等）一式の調達 | BG25: １ 件名沖縄県立中部Ａ特別支援学校（仮称）における配管に係る機器（厨房機器等）一式の調達
G27: ２ 入札保証金 | AC27: 円 | BG27: ２ 入札保証金 | CC27: 円
G29: ３ 口座振込先 | P29: 金融機関 | U29: ='07'!H23 | BG29: ３ 口座振込先 | BP29: 金融機関 | BU29: ='07'!BH23 -> □□
P30: 預金種類 | U30: =IF('07'!H21="○","普通預金","当座預金") -> 普通預金 | BP30: 預金種類 | BU30: =IF('07'!BH21="○","普通預金","当座預金") -> 普通預金
P31: 口座番号 | U31: ='07'!H24 -> 0 | BP31: 口座番号 | BU31: ='07'!BH24 -> 0000000
P32: 口座名義 | U32: ='07'!H26 | BP32: 口座名義 | BU32: ='07'!BH26 -> ○△ ○○

Sheet 10-01
G7: 第10－１号様式 | BG7: 第10－１号様式
AI8: 登録番号 | AN8: ※ | CI8: 登録番号 | CN8: ※
G10: 機能等証明書 | BG10: 機能等証明書
AO12: =IF('00-01'!AL12=0,"",'00-01'!AL12) -> 令和 年 月 日 | CO12: =IF('00-01'!CL12=0,"",'00-01'!CL12) -> 令和 ○年 ○月 ○日
G14: 沖縄県知事殿 | BG14: 沖縄県知事殿
R16: 住所 | AC16: =IF('00-01'!AB17=0,"",'00-01'!AB17) | BR16: 住所 | CC16: =IF('00-01'!CB17=0,"",'00-01'!CB17) -> 沖縄県○○市○○○ ○丁目○番地○号
AC17: =IF('00-01'!AB18=0,"",'00-01'!AB18) | CC17: =IF('00-01'!CB18=0,"",'00-01'!CB18) -> ○○ビル ○階
R18: 商号又は名称 | AC18: =IF('00-01'!AB20=0,"",'00-01'!AB20) | BR18: 商号又は名称 | CC18: =IF('00-01'!CB20=0,"",'00-01'!CB20) -> ○○株式会社
R19: 代表者職・氏名 | AC19: =IF('00-01'!AB22=0,"",'00-01'!AB22) | AY19: 印 | BR19: 代表者職・氏名 | CC19: =IF('00-01'!CB22=0,"",'00-01'!CB22) -> ○△ ○○ | CY19: 印
G21: 沖縄県立中部Ａ特別支援学校（仮称）における配管に係る機器（厨房機器等） 一式の調達に係る入札に関し、別紙のとおり仕様書を満たすことを証明します。 | BG21: 沖縄県立中部Ａ特別支援学校（仮称）における配管に係る機器（厨房機器等） 一式の調達に係る入札に関し、別紙のとおり仕様書を満たすことを証明します。
G23: なお、機能等証明書に示した以外の項目であっても、仕様書と同等以上の機能を有することを証明します。 | BG23: なお、機能等証明書に示した以外の項目であっても、仕様書と同等以上の機能を有することを証明します。
G26: 記 | BG26: 記
G28: 資料別添 | BG28: 資料別添

Sheet 10-02
G7: 第10－２号様式 | BG7: 第10－２号様式
M8: 登録番号 | O8: ※ | BM8: 登録番号 | BO8: ※
P10: 機能等証明書別紙 | BP10: 機能等証明書別紙
G11: 納入しようとする機器等の構成 | BG11: 納入しようとする機器等の構成
G12: No | J12: 品名 | K12: 型式 | L12: メーカー | M12: 数量 | N12: 単価 | O12: 金額 | P12: 実際の仕様内容 | BG12: No | BJ12: 品名 | BK12: 型式 | BL12: メーカー | BM12: 数量 | BN12: 単価 | BO12: 金額 | BP12: 実際の仕様内容
H13: - | I13: 1 | BH13: - | BI13: 1 | BJ13: 別紙の通り
H14: - | I14: 2 | BH14: - | BI14: 2
H15: - | I15: 3 | BH15: - | BI15: 3
H16: - | I16: 4 | BH16: - | BI16: 4
H17: - | I17: 5 | BH17: - | BI17: 5
H18: - | I18: 6 | BH18: - | BI18: 6
H19: - | I19: 7 | BH19: - | BI19: 7
H20: - | I20: 8 | BH20: - | BI20: 8
H21: - | I21: 9 | BH21: - | BI21: 9
H22: - | I22: 10 | BH22: - | BI22: 10
H23: - | I23: 11 | BH23: - | BI23: 11
H24: - | I24: 12 | BH24: - | BI24: 12
H25: - | I25: 13 | BH25: - | BI25: 13
... H32: - | I32: 20 | BH32: - | BI32: 20

Sheet 11
G7: 第11号様式 | BG7: 第11号様式
AI8: 登録番号 | AN8: ※ | CI8: 登録番号 | CN8: ※
G10: 機器等搬入・調整業務及び障害対応業務体制証明書 | BG10: 機器等搬入・調整業務及び障害対応業務体制証明書
AO12: =IF('00-01'!AL12=0,"",'00-01'!AL12) -> 令和 年 月 日 | CO12: =IF('00-01'!CL12=0,"",'00-01'!CL12) -> 令和 ○年 ○月 ○日
G14: 沖縄県知事殿 | BG14: 沖縄県知事殿
R16: 住所 | AC16: =IF('00-01'!AB17=0,"",'00-01'!AB17) | BR16: 住所 | CC16: =IF('00-01'!CB17=0,"",'00-01'!CB17) -> 沖縄県○○市○○○ ○丁目○番地○号
AC17: =IF('00-01'!AB18=0,"",'00-01'!AB18) | CC17: =IF('00-01'!CB18=0,"",'00-01'!CB18) -> ○○ビル ○階
R18: 商号又は名称 | AC18: =IF('00-01'!AB20=0,"",'00-01'!AB20) | BR18: 商号又は名称 | CC18: =IF('00-01'!CB20=0,"",'00-01'!CB20) -> ○○株式会社
R19: 代表者職・氏名 | AC19: =IF('00-01'!AB22=0,"",'00-01'!AB22) | AY19: 印 | BR19: 代表者職・氏名 | CC19: =IF('00-01'!CB22=0,"",'00-01'!CB22) -> ○△ ○○ | CY19: 印
G21: 沖縄県立中部Ａ特別支援学校（仮称）における配管に係る機器（厨房機器等） 一式の調達に係る入札への参加に関し、下記のとおり機器等設置・設定業務及び障害対応体制が整備されていることを証明します。 | BG21: 沖縄県立中部Ａ特別支援学校（仮称）における配管に係る機器（厨房機器等） 一式の調達に係る入札への参加に関し、下記のとおり機器等設置・設定業務及び障害対応体制が整備されていることを証明します。
G23: 記 | BG23: 記
G25: １ 技術者及び資格一覧 | BG25: １ 技術者及び資格一覧
BH26: １．△○ □□ ／ ○□△○□△士
BH27: ２．□○ ○□ ／ □△士
BH28: ※資格を証する書類は別紙の通り。
G34: ２ 設置・設定体制（工程） | BG34: ２ 設置・設定体制（工程）
BH35: 別紙の通り。
G43: ３ 障害対応業務体制 | BG43: ３ 障害対応業務体制
BH44: 別紙の通り。

Sheet 12
G7: 第12号様式 | BG7: 第12号様式
G10: 入札書（工事を除く） | BG10: 入札書（工事を除く）
H12: 拾 | I12: 億 | J12: 千 | K12: 百 | L12: 拾 | M12: 万 | N12: 千 | O12: 百 | P12: 拾 | Q12: 円 | BH12: 拾 | BI12: 億 | BJ12: 千 | BK12: 百 | BL12: 拾 | BM12: 万 | BN12: 千 | BO12: 百 | BP12: 拾 | BQ12: 円
G13: 入札金額 | BG13: 入札金額 | BM13: ￥ | BN13: １ | BO13: ０ | BP13: ０ | BQ13: ０
G15: 入札の目的 | H15: 沖縄県立中部Ａ特別支援学校（仮称）における 配管に係る機器（厨房機器等）の調達 | BG15: 入札の目的 | BH15: 沖縄県立中部Ａ特別支援学校（仮称）における 配管に係る機器（厨房機器等）の調達
G16: 引渡の場所 | H16: 沖縄県立沖縄県立中部Ａ特別支援学校（仮称） | BG16: 引渡の場所 | BH16: 沖縄県立沖縄県立中部Ａ特別支援学校（仮称）
G17: 引渡の期限 | H17: 令和９年12月31日※開校準備の状況により両者協議の上変更の可能性有 | BG17: 引渡の期限 | BH17: 令和９年12月31日※開校準備の状況により両者協議の上変更の可能性有
G18: 引渡の方法 | H18: 検収後引渡 | BG18: 引渡の方法 | BH18: 検収後引渡
G19: 入札保証金額 | BG19: 入札保証金額
G20: 内 容 | BG20: 内 容
G21: 品名 | H21: 規 格 | J21: 数 量 | L21: 単 価 | N21: 金 額 | P21: 備 考 | BG21: 品名 | BH21: 規 格 | BJ21: 数 量 | BL21: 単 価 | BN21: 金 額 | BP21: 備 考
G22: 配管に係る機器（厨房機器等） | H22: 仕様書のとおり | J22: 一式 | BG22: 配管に係る機器（厨房機器等） | BH22: 仕様書のとおり | BJ22: 一式 | BN22: 1000
G28: 上記金額にその100分の10に相当する金額を加算した金額（当該額に１円未満の端数があるときは、その端数金額を切り捨てた金額）をもって納入したいので御呈示の設計書、仕様書、契約条項（請書条項）及び財務規則（昭和47年沖縄県規則第12号）並びに御呈示の事項を承知して入札いたします。 | BG28: 上記金額にその100分の10に相当する金額を加算した金額（当該額に１円未満の端数があるときは、その端数金額を切り捨てた金額）をもって納入したいので御呈示の設計書、仕様書、契約条項（請書条項）及び財務規則（昭和47年沖縄県規則第12号）並びに御呈示の事項を承知して入札いたします。
N30: =IF('00-01'!AL12=0,"",'00-01'!AL12) -> 令和 年 月 日 | BN30: =IF('00-01'!CL12=0,"",'00-01'!CL12) -> 令和 ○年 ○月 ○日
G31: 沖縄県知事 殿 | BG31: 沖縄県知事 殿
H33: 住所 | K33: =IF('00-01'!AB17=0,"",'00-01'!AB17) | BH33: 住所 | BK33: =IF('00-01'!CB17=0,"",'00-01'!CB17) -> 沖縄県○○市○○○ ○丁目○番地○号
K34: =IF('00-01'!AB18=0,"",'00-01'!AB18) | BK34: =IF('00-01'!CB18=0,"",'00-01'!CB18) -> ○○ビル ○階
H35: 商号又は名称 | K35: =IF('00-01'!AB20=0,"",'00-01'!AB20) | BH35: 商号又は名称 | BK35: =IF('00-01'!CB20=0,"",'00-01'!CB20) -> ○○株式会社
H36: 代表者職・氏名 | K36: =IF('00-01'!AB22=0,"",'00-01'!AB22) | Q36: 印 | BH36: 代表者職・氏名 | BK36: =IF('00-01'!CB22=0,"",'00-01'!CB22) -> ○△ ○○ | BQ36: 印

Sheet 13
G7: 第13号様式 | BG7: 第13号様式
G10: 委任状 | BG10: 委任状
Z12: =IF('00-01'!AL12=0,"",'00-01'!AL12) -> 令和 年 月 日 | BZ12: =IF('00-01'!CL12=0,"",'00-01'!CL12) -> 令和 ○年 ○月 ○日
G14: 沖縄県知事殿 | BG14: 沖縄県知事殿
P16: 住所 | U16: =IF('00-01'!AB17=0,"",'00-01'!AB17) | BP16: 住所 | BU16: =IF('00-01'!CB17=0,"",'00-01'!CB17) -> 沖縄県○○市○○○ ○丁目○番地○号
U17: =IF('00-01'!AB18=0,"",'00-01'!AB18) | BU17: =IF('00-01'!CB18=0,"",'00-01'!CB18) -> ○○ビル ○階
P18: 商号又は名称 | U18: =IF('00-01'!AB20=0,"",'00-01'!AB20) | BP18: 商号又は名称 | BU18: =IF('00-01'!CB20=0,"",'00-01'!CB20) -> ○○株式会社
P19: 代表者職・氏名 | U19: =IF('00-01'!AB22=0,"",'00-01'!AB22) | AI19: 印 | BP19: 代表者職・氏名 | BU19: =IF('00-01'!CB22=0,"",'00-01'!CB22) -> ○△ ○○ | CI19: 印
G21: 私は、 を代理人と定め、下記業務の入札に関する一切の権限を委任致します。 | BG21: 私は、△△△△を代理人と定め、下記業務の入札に関する一切の権限を委任致します。
G23: 記 | BG23: 記
G25: １ | H25: 沖縄県立中部Ａ特別支援学校（仮称）における配管に係る機器（厨房機器等）一式の調達に係る入札に関する件 | BG25: １ | BH25: 沖縄県立中部Ａ特別支援学校（仮称）における配管に係る機器（厨房機器等）一式の調達に係る入札に関する件
G27: ２ | H27: 代理人使用印鑑 | BG27: ２ | BH27: 代理人使用印鑑
BM32: 印

Sheet 14
BF5: 記入例
G7: 第14号様式 | BG7: 第14号様式
G10: 質問書 | BG10: 質問書
J13: =IF('00-01'!AL12=0,"",'00-01'!AL12) -> 令和 年 月 日 | BJ13: =IF('00-01'!CL12=0,"",'00-01'!CL12) -> 令和 ○年 ○月 ○日
I15: 住所 | J15: =IF('00-01'!AB17=0,"",'00-01'!AB17) | BI15: 住所 | BJ15: =IF('00-01'!CB17=0,"",'00-01'!CB17) -> 沖縄県○○市○○○ ○丁目○番地○号
I16: 商号 | J16: =IF('00-01'!AB20=0,"",'00-01'!AB20) | BI16: 商号 | BJ16: =IF('00-01'!CB20=0,"",'00-01'!CB20) -> ○○株式会社
I17: 代表者名 | J17: =IF('00-01'!AB22=0,"",'00-01'!AB22) | BI17: 代表者名 | BJ17: =IF('00-01'!CB22=0,"",'00-01'!CB22) -> ○△ ○○
I18: 担当者名 | J18: =IF('00-01'!AB33=0,"",'00-01'!AB33) | BI18: 担当者名 | BJ18: =IF('00-01'!CB33=0,"",'00-01'!CB33) -> ○△ □□
I19: 電話番号 | J19: =IF('00-01'!AB34=0,"",'00-01'!AB34) | BI19: 電話番号 | BJ19: =IF('00-01'!CB34=0,"",'00-01'!CB34) -> 000-0000-0000
I20: FAX番号 | J20: =IF('00-01'!AB35=0,"",'00-01'!AB35) | BI20: FAX番号 | BJ20: =IF('00-01'!CB35=0,"",'00-01'!CB35) -> 000-0000-0001
I21: E-mail | J21: =IF('00-01'!AB36=0,"",'00-01'!AB36) | BI21: E-mail | BJ21: =IF('00-01'!CB36=0,"",'00-01'!CB36) -> eeee@aaaaaaaaaaa.jp
G23: No. | H23: 仕様書の項目 | J23: 質問内容 | BG23: No. | BH23: 仕様書の項目 | BJ23: 質問内容
BG24: 01 | BH24: １－⑴ | BJ24: ○○について、○○でよいか。

Sheet 15-01
H8: 送付先 | O8: 送付先 | BH8: 送付先 | BO8: 送付先
I10: =IF('00-01'!AB16=0,"",'00-01'!AB16) | P10: 902-8501 | BI10: =IF('00-01'!CB16=0,"",'00-01'!CB16) -> 000-0000 | BP10: 902-8501
I11: =IF('00-01'!AB17=0,"",'00-01'!AB17) | P11: 沖縄県那覇市寄宮１－２－16 | BI11: =IF('00-01'!CB17=0,"",'00-01'!CB17) -> 沖縄県○○市○○○ ○丁目○番地○号 | BP11: 沖縄県那覇市寄宮１－２－16
J13: =IF('00-01'!AB18=0,"",'00-01'!AB18) | Q13: 沖縄県教育庁 | BJ13: =IF('00-01'!CB18=0,"",'00-01'!CB18) -> ○○ビル ○階 | BQ13: 沖縄県教育庁
J14: =IF('00-01'!AB20=0,"",'00-01'!AB20) | Q14: 教育支援課（入札担当）行き | BJ14: =IF('00-01'!CB20=0,"",'00-01'!CB20) -> ○○株式会社 | BQ14: 教育支援課（入札担当）行き
H36: 送付元 | O36: 送付元 | BH36: 送付元 | BO36: 送付元
H38: 902-8501 | P38: =IF('00-01'!AB16=0,"",'00-01'!AB16) | BH38: 902-8501 | BP38: =IF('00-01'!CB16=0,"",'00-01'!CB16) -> 000-0000
H39: 沖縄県那覇市寄宮１－２－16 | P39: =IF('00-01'!AB17=0,"",'00-01'!AB17) | BH39: 沖縄県那覇市寄宮１－２－16 | BP39: =IF('00-01'!CB17=0,"",'00-01'!CB17) -> 沖縄県○○市○○○ ○丁目○番地○号
I41: 沖縄県教育庁 | P41: =IF('00-01'!AB18=0,"",'00-01'!AB18) | BI41: 沖縄県教育庁 | BP41: =IF('00-01'!CB18=0,"",'00-01'!CB18) -> ○○ビル ○階
I42: 教育支援課（入札担当） | P42: =IF('00-01'!AB20=0,"",'00-01'!AB20) | BI42: 教育支援課（入札担当） | BP42: =IF('00-01'!CB20=0,"",'00-01'!CB20) -> ○○株式会社

Sheet 15-02
H8: 送付先 | O8: 送付先 | BH8: 送付先 | BO8: 送付先
I10: =IF('00-01'!AB16=0,"",'00-01'!AB16) | P10: 902-8501 | BI10: =IF('00-01'!CB16=0,"",'00-01'!CB16) -> 000-0000 | BP10: 902-8501
I11: =IF('00-01'!AB17=0,"",'00-01'!AB17) | P11: 沖縄県那覇市寄宮１－２－16 | BI11: =IF('00-01'!CB17=0,"",'00-01'!CB17) -> 沖縄県○○市○○○ ○丁目○番地○号 | BP11: 沖縄県那覇市寄宮１－２－16
J13: =IF('00-01'!AB18=0,"",'00-01'!AB18) | Q13: 沖縄県教育庁 | BJ13: =IF('00-01'!CB18=0,"",'00-01'!CB18) -> ○○ビル ○階 | BQ13: 沖縄県教育庁
J14: =IF('00-01'!AB20=0,"",'00-01'!AB20) | Q14: 教育支援課（入札担当）行き | BJ14: =IF('00-01'!CB20=0,"",'00-01'!CB20) -> ○○株式会社 | BQ14: 教育支援課（入札担当）行き
H36: 送付元 | O36: 送付元 | BH36: 送付元 | BO36: 送付元
H38: 902-8501 | P38: =IF('00-01'!AB16=0,"",'00-01'!AB16) | BH38: 902-8501 | BP38: =IF('00-01'!CB16=0,"",'00-01'!CB16) -> 000-0000
H39: 沖縄県那覇市寄宮１－２－16 | P39: =IF('00-01'!AB17=0,"",'00-01'!AB17) | BH39: 沖縄県那覇市寄宮１－２－16 | BP39: =IF('00-01'!CB17=0,"",'00-01'!CB17) -> 沖縄県○○市○○○ ○丁目○番地○号
I41: 沖縄県教育庁 | P41: =IF('00-01'!AB18=0,"",'00-01'!AB18) | BI41: 沖縄県教育庁 | BP41: =IF('00-01'!CB18=0,"",'00-01'!CB18) -> ○○ビル ○階
I42: 教育支援課（入札担当） | P42: =IF('00-01'!AB20=0,"",'00-01'!AB20) | BI42: 教育支援課（入札担当） | BP42: =IF('00-01'!CB20=0,"",'00-01'!CB20) -> ○○株式会社
